BEGIN:VCALENDAR
PRODID:-//eluceo/ical//2.0/EN
VERSION:2.0
CALSCALE:GREGORIAN
BEGIN:VEVENT
UID:327ccd7fc01f8a45c5bf30a61d0b9b77
DTSTAMP:20260423T150323Z
SUMMARY:Aktuální situace v oblasti zaměstnávání cizinců v ČR
DESCRIPTION:Název akce: Aktuální situace v oblasti zaměstnávání cizi
 nců v ČR\nURL: https://www.spcr.cz/aktualni-situace-v-oblasti-zamestnava
 ni-cizincu-v-cr-1\nPopis: \n\nZveme vás na první letošní seminář na 
 téma „Aktuální situace v oblasti zaměstnávání cizinců v ČR“\
 , který se uskuteční dne 27. dubna 2023 od 09:00 v budově MPO\, Na F
 rantišku 32 v Praze.\nCílem semináře je poskytnout užitečné a aktu
 ální informace k zaměstnávání cizinců. Seminář je určen zaměstn
 avatelům\, kteří hledají odpovědi na otázky\, jak legálně zaměstn
 at kvalifikované zaměstnance ze třetích zemí a dalším subjektům\, 
 které mají zájem se blíže seznámit s problematikou zaměstnávání 
 cizinců.\n\nNa seminář se zargistrujte přes online formulář do 25. 4
 . 2023. Registrace na seminář je zdarma.\nProgram ke stažení\n\nSemi
 nář je realizován ve spolupráci s Ministerstvem zahraničních věc
 í\, Ministerstvem vnitra a Ministerstvem práce a sociálních věcí.\n
URL:https://www.spcr.cz/aktualni-situace-v-oblasti-zamestnavani-cizincu-v-c
 r-1
DTSTART:20230427T090000
DTEND:20230427T130000
LOCATION:
END:VEVENT
END:VCALENDAR
