BEGIN:VCALENDAR
PRODID:-//eluceo/ical//2.0/EN
VERSION:2.0
CALSCALE:GREGORIAN
BEGIN:VEVENT
UID:e44c483fbce9235cffe334a80f992cc8
DTSTAMP:20260423T125029Z
SUMMARY:Konference Digitální výroba 2023
DESCRIPTION:Název akce: Konference Digitální výroba 2023\nURL: https://
 www.spcr.cz/konference-digitalni-vyroba-2023\nPopis: \n\nZveme vás na kon
 ferenci Digitální výroba 2023\, které Svaz průmyslu a dopravy ČR pos
 kytl záštitu.\nObstojí koncept digitalizace v době turbulentní inflac
 e\, očekávaných škrtů a neočekávaných problémů s energiemi? Je z
 řejmé\, že neobstojí firmy\, které koncept digitalizace opustí. Ruku
  v ruce s novými problémy se ukazují starší i novější řešení v 
 oblasti digitalizace jako dobrý nárazník pro konkurenceschopnou výrobu
 . Konference přinese nové komplexní informace z digitální transformac
 e tuzemského průmyslu.\nVíce o akci a program najdete ZDE.\n
URL:https://www.spcr.cz/konference-digitalni-vyroba-2023
DTSTART:20230524T000000
DTEND:20230525T235959
LOCATION:
END:VEVENT
END:VCALENDAR
