BEGIN:VCALENDAR
PRODID:-//eluceo/ical//2.0/EN
VERSION:2.0
CALSCALE:GREGORIAN
BEGIN:VEVENT
UID:14bb04d2bced4a388c7ce846fd40c4c0
DTSTAMP:20260423T150246Z
SUMMARY:Webinář: The Time to Invest in Ukraine Is Now
DESCRIPTION:Název akce: Webinář: The Time to Invest in Ukraine Is Now\nU
 RL: https://www.spcr.cz/webinar-time-invest-ukraine-now\nPopis: \n\nVáže
 né dámy\, vážení pánové\,rádi bychom Vás pozvali na webinář org
 anizovaný International Finance Corporation (IFC)\, členem skupiny Svět
 ové banky\, ve spolupráci s jejich českým\, slovenským a maďarským 
 kontaktním místem (liaison officer). Tématem webináře budou možnosti
  našich investic na Ukrajině s finanční podporou ze strany IFC.\nWebin
 ář je určen k získání základních informací a kontaktů\, bude pro
 to trvat pouze 90 minut\, ale v případě Vašeho zájmu Vás v naší ro
 li českého kontaktního místa můžeme podpořit v dalších jednáníc
 h s IFC.\nVzhledem k výlučné přítomnosti zahraničních přednášej
 ících z IFC se bude celý webinář konat v anglickém jazyce. Účast
  je bez poplatku.\nPokud máte zájem o účast\, napište své firemní a
  kontaktní údaje na adresu pslo@ceb.cz. Následně Vám přijde pozván
 ka prostřednictvím elektronické platformy.\nKontaktní osoba za organiz
 ační tým:\nKateřina ChmelařováČeská exportní banka\, a.s.Private 
 Sector Liaison Officer for World Bank Group\n
URL:https://www.spcr.cz/webinar-time-invest-ukraine-now
DTSTART:20230420T160000
DTEND:20230420T173000
LOCATION:
END:VEVENT
END:VCALENDAR
