BEGIN:VCALENDAR
PRODID:-//eluceo/ical//2.0/EN
VERSION:2.0
CALSCALE:GREGORIAN
BEGIN:VEVENT
UID:52a9011e4619b9f4d0c5d3682e088508
DTSTAMP:20260423T150254Z
SUMMARY:The 23rd China International Fair for Investment & Trade
DESCRIPTION:Název akce: The 23rd China International Fair for Investment &
  Trade\nURL: https://www.spcr.cz/23rd-china-international-fair-investment-
 trade\nPopis: \n\nChina International Fair for Investment & Trade (hereina
 fter referred to as the CIFIT) is scheduled to be held in Xiamen during Se
 pt.8th-11th\, 2023.\nCIFIT promotion brochure can be downloaded here. \nF
 or registration or more details \, please refer to the following informati
 on:\nWebsite of CIFIT: www.chinafair.org.cnContact of CIFIT: Operation & 
 Liaison Department of CIFIT Organizing CommitteeTel :0086-592-2859890/2859
 824Email: chenwenneng@chinafair.org.cn\, shanshanz@chinafair.org.cn\n
URL:https://www.spcr.cz/23rd-china-international-fair-investment-trade
DTSTART:20230908T080000
DTEND:20230911T170000
LOCATION:
END:VEVENT
END:VCALENDAR
