BEGIN:VCALENDAR
PRODID:-//eluceo/ical//2.0/EN
VERSION:2.0
CALSCALE:GREGORIAN
BEGIN:VEVENT
UID:9c00d779f37256e961aa59e724f5f927
DTSTAMP:20260423T125316Z
SUMMARY:HANNOVER MESSE 2023
DESCRIPTION:Název akce: HANNOVER MESSE 2023\nURL: https://www.spcr.cz/hann
 over-messe-2023\nPopis: \n\nZveme členy SP ČR k návštěvě mezinárodn
 ího veletrhu HANNOVER MESSE\, na kterém představí v termínu od 17. do
  21. dubna 2023 přes 4000 firem novinky a inovace z oblastí strojírenst
 ví\, elektrotechniky\, digitálního průmyslu a energetiky.\nNa základ
 ě naší spolupráce s pořadatelem veletrhu Vám můžeme nabídnout vst
 upenku na veletrh zdarma\, získáte ji zadáním registračního kódu: T
 SQTe při registraci.\nSeznam výzev pro průmysl je dlouhý: změna klima
 tu\, nedostatek energií\, narušené dodavatelské řetězce\, nedostatek
  kvalifikovaných pracovníků. Řešení spočívá v důsledném použí
 vání technologií. Současně musí být správně nastaveny rámcové p
 odmínky hospodářské politiky. Veletrh HANNOVER MESSE 2023 nabízí obo
 jí: technologie pro síťově propojený a klimaticky neutrální průmys
 l i světové jeviště pro diskusi mezi průmyslem\, politikou\, vědou a
  společností.\nMezi vystavujícími společnostmi jsou globální techno
 logické korporace ale i malé a stření podniky\, více než 300 start-u
 pů a samozřejmě nechybí ani renomované výzkumné ústavy a instituce
 . Hojně zastoupena je rovněž Česká republika a již tradičně se př
 edstaví několik českých firem v rámci společné expozice pod zášti
 tou agentury CzechTrade. Katalog vystavovatelů\, ve kterém lze filtrovat
  podle různých kritérií\, naleznete na webu pořadatele v sekci Exhibi
 tors & Products.\nV případě dotazů kontaktujte výhradní zastoupení 
 pořadatele veletrhu HANNOVER MESSE v ČR společnosti PROveletrhy\, info@
 proveletrhy.cz\n
URL:https://www.spcr.cz/hannover-messe-2023
DTSTART:20230417T000000
DTEND:20230421T235959
LOCATION:
END:VEVENT
END:VCALENDAR
