BEGIN:VCALENDAR
PRODID:-//eluceo/ical//2.0/EN
VERSION:2.0
CALSCALE:GREGORIAN
BEGIN:VEVENT
UID:4ec9f3ae57a3236b6e29d75078bc2278
DTSTAMP:20260423T145025Z
SUMMARY:SelectUSA Summit v Washingtonu D.C.
DESCRIPTION:Název akce: SelectUSA Summit v Washingtonu D.C.\nURL: https:/
 /www.spcr.cz/selectusa-summit-v-washingtonu-dc\nPopis: \n\nPlánujete se s
 vojí firmou expandovat do USA? Přidejte se k delegaci Velvyslanectví US
 A na SelectUSA Summit ve Washingtonu D.C.\nObchodní oddělení Americk
 é ambasády v Praze připravuje delegaci na „SelectUSA Investment Summ
 it“\, který se koná v termínu 1.—4. května v Washingtonu DC. Jedn
 á se o největší akci zaměřenou na investování v USA. Historicky se
  summitu účastní více než 1 200 firem a startupů z celého světa. N
 a samotné akci pak ambasáda českým firmám pomáhá koordinovat jedná
 ní a také organizuje doprovodný program. Pro firmy\, co plánují v US
 A expanzi\, se jedná o skvělou příležitost\, jak v USA navázat vhodn
 é kontakty a dozvědět se více o businessovém prostředí USA. \nV r
 ámci summitu je možné účastnit se kulatých stolů\, recepcí a domlu
 vit si osobní schůzky se zástupci rozvojových agentur jednotlivých st
 átů a americkými vládními činiteli. Také je možné naplánovat si
  schůzky se zástupci startupových inkubátorů/akcelerátorů\, VC fond
 ů a agentur podporujících technologické investice do USA. Akce se bud
 ou účastnit také desítky privátních firem\, které podporují zahran
 iční firmy při vstupu na americký trh: ať se jedná o podporu s hled
 áním lokálních partnerů\, náborem místních zaměstnanců nebo o pr
 ávní služby. Součástí registrace na summit je také možnost účast
 nit se takzvaných spin-off eventů\, které se konají v různých stát
 ech napříč USA v týdnu před a po summitu. Tyto organizované prohlí
 dky jsou pořádány rozvojovými agenturami daných států a nabízí sk
 vělou příležitost pro poznání jednotlivých států a jejich podnika
 telského ekosystému\, abyste se mohli lépe rozhodnout k umístění Va
 ší investice. Summitu se tradičně účastní také přes 300 řeční
 ků\, kteří nabídnou nespočet sektorově zaměřených seminářů na
  různá témata. Akce také nabídne množství přednášek a workshop
 ů zaměřené na startupy.\nPokud Vás tato akce zaujala a máte zájem s
 e stát součástí naší delegace\, neváhejte kontaktovat pana Richarda
  Palese z velvyslanectví\, který akci v ČR koordinuje\, na  richard.
 pales@trade.gov\, rád zodpoví Vaše případné dotazy. \nOdkaz k akci
 : www.selectusasummit.us\nOdkaz k spin-off eventům: www.selectusasummit.
 us/Programming/Spinoff-Events\n
URL:https://www.spcr.cz/selectusa-summit-v-washingtonu-dc
DTSTART:20230501T000000
DTEND:20230501T235959
LOCATION:
END:VEVENT
END:VCALENDAR
