BEGIN:VCALENDAR
PRODID:-//eluceo/ical//2.0/EN
VERSION:2.0
CALSCALE:GREGORIAN
BEGIN:VEVENT
UID:f477590304b71f447592a481df660a19
DTSTAMP:20260423T130810Z
SUMMARY:Obchodní příležitosti v Estonsku\, Litvě a Lotyšsku
DESCRIPTION:Název akce: Obchodní příležitosti v Estonsku\, Litvě a Lo
 tyšsku\nURL: https://www.spcr.cz/obchodni-prilezitosti-v-estonsku-litve-l
 otyssku\nPopis: \n\nOdbor ekonomické diplomacie Ministerstva zahraniční
 ch věcí si Vás dovoluje pozvat na seminář o aktuálních obchodních 
 příležitostech pro české firmy na trzích v Estonsku\, Litvě a Loty
 šsku\, který proběhne ve středu 3. května od 10:00 hodin v Černíns
 kém paláci v Praze.\n\n\n\n\n\nV rámci obou seminářů proběhnou sér
 ie prezentací ekonomických diplomatů\, kteří působí na zastupitelsk
 ých úřadech České republiky v Estonsku (Petr Preclík)\, Litvě (Tom
 áš Vostrý) a Lotyšsku (Marta Hušková).\nÚčastníkům semináře bu
 dou prezentovat aktuální obchodní a investiční příležitosti na jed
 notlivých trzích\, ale také informace o kultuře obchodního jednání\
 , specifikách trhů a stavu ekonomiky v každé z těchto zemí. \nBliž
 ší informace k semináři včetně kontaktu a registrace na akci nalezne
 te na stránkách MZV.\n
URL:https://www.spcr.cz/obchodni-prilezitosti-v-estonsku-litve-lotyssku
DTSTART:20230503T100000
DTEND:20230503T120000
LOCATION:
END:VEVENT
END:VCALENDAR
