BEGIN:VCALENDAR
PRODID:-//eluceo/ical//2.0/EN
VERSION:2.0
CALSCALE:GREGORIAN
BEGIN:VEVENT
UID:44ee1970c9e283f725d842a26132e863
DTSTAMP:20260423T231852Z
SUMMARY:Obchodní příležitosti v Německu\, Rakousku\, Polsku a na Slove
 nsku
DESCRIPTION:Název akce: Obchodní příležitosti v Německu\, Rakousku\, 
 Polsku a na Slovensku\nURL: https://www.spcr.cz/obchodni-prilezitosti-v-ne
 mecku-rakousku-polsku-na-slovensku\nPopis: \n\nOdbor ekonomické diplomaci
 e Ministerstva zahraničních věcí si Vás dovoluje pozvat na konferenci
  o aktuálních obchodních a investičních příležitostech pro české
  firmy na trzích v Německu\, Rakousku\, Slovensku a Polsku\, která pro
 běhne ve čtvrtek 20. dubna 2023 od 10:00 hodin v Černínském paláci 
 v Praze.\nV rámci obou seminářů proběhnou série prezentací ekonomi
 ckých diplomatů\, kteří působí na zastupitelských úřadech České
  republiky v Estonsku (Petr Preclík)\, Litvě (Tomáš Vostrý) a Lotyšs
 ku (Marta Hušková).\nÚčastníkům semináře budou prezentovat aktuál
 ní obchodní a investiční příležitosti na jednotlivých trzích\, al
 e také informace o kultuře obchodního jednání\, specifikách trhů a 
 stavu ekonomiky v každé z těchto zemí. \nBližší informace k semin
 áři včetně kontaktu a registrace na akci naleznete na stránkách MZV.
  \n
URL:https://www.spcr.cz/obchodni-prilezitosti-v-nemecku-rakousku-polsku-na-
 slovensku
DTSTART:20230420T100000
DTEND:20230420T120000
LOCATION:
END:VEVENT
END:VCALENDAR
