BEGIN:VCALENDAR
PRODID:-//eluceo/ical//2.0/EN
VERSION:2.0
CALSCALE:GREGORIAN
BEGIN:VEVENT
UID:b95c97de5cdc0abefc848037c4cdbb77
DTSTAMP:20260423T163117Z
SUMMARY:Online seminář: Ukrajina – aktuální příležitosti pro česk
 é exportéry
DESCRIPTION:Název akce: Online seminář: Ukrajina – aktuální příle
 žitosti pro české exportéry\nURL: https://www.spcr.cz/online-seminar-u
 krajina-aktualni-prilezitosti-pro-ceske-exportery-0\nPopis: \n\nOksana Ant
 onenko\, ředitelka zahraniční kanceláře Czechtrade v Kyjevě\n\nPrakt
 ické informace pro české exportéry zajímající se o ukrajinský trh\
 nAnalýza aktuální situace v zemi se zaměřením na současné ekonomic
 ké klima na Ukrajině\nDopady roku války na český export a jednotlivá
  odvětví místní ekonomiky\, analýza statistiky zahraničního obchodu
  za loňský rok\nObory a projekty\, které jsou perspektivní pro export 
 z ČR\nPraktické tipy pro obchodování\, podnikání obchodních cest\, 
 organizace jednání s obchodními partnery\nInformace o státních inicia
 tivách a programech na podporu podnikání v Ukrajině\n\nMonika Šimůnk
 ová Hošková\, advokátka\, kancelář PETERKA & PARTNERS\n\nJak mají p
 ostupovat čeští zakladatelé\, pokud sídlo firmy (majetek\, sklady) se
  nachází na okupovaném území?\nJak je třeba nahlásit škodu\, kter
 á vznikla firmě v důsledku válečných událostí?\nJak na zrušení\,
  založení podniku\, jmenování nového vedení v ukrajinské pobočce v
  současné době?\nJaké jsou povinnosti zaměstnavatele\, pokud zaměstn
 anec narukoval do armády? Existuje možnost „zabookovat“ zaměstnance
  ve výrobě?\nJak probíhají platby a dodávky zboží ukrajinskému zá
 kazníkovi\, jaké dodatečné podklady vyžadují ukrajinské banky?\nDal
 ší důležité změny pro mezinárodní obchod a působení podniků\, k
 teré vznikly v poslední době.\n\nOndřej Formánek\, ředitel ukrajinsk
 é pobočky TTC Marconi a.s.\n\nZkušenosti a příklady z praxe od úspě
 šného exportéra – jak se podařilo ve válečných podmínkách zacho
 vat ukrajinskou pobočkou v pracovním stavu\, s jakými největšími vý
 zvami se setkal personál a vedením podniku v prvních týdnech války\, 
 jak nyní funguje pobočky\, jak se realizují zakázky a jak probíhají 
 služební cesty do Kyjeva.\n\nPřihlásit na seminář se můžete na str
 ánkách CzechTrade ZDE. \n
URL:https://www.spcr.cz/online-seminar-ukrajina-aktualni-prilezitosti-pro-c
 eske-exportery-0
DTSTART:20230413T100000
DTEND:20230413T120000
LOCATION:
END:VEVENT
END:VCALENDAR
