BEGIN:VCALENDAR
PRODID:-//eluceo/ical//2.0/EN
VERSION:2.0
CALSCALE:GREGORIAN
BEGIN:VEVENT
UID:a927315b443ef7208601eb55dc58b01b
DTSTAMP:20260423T163130Z
SUMMARY:Česko-africká konference o investičních a obchodních přílež
 itostech
DESCRIPTION:Název akce: Česko-africká konference o investičních a obch
 odních příležitostech\nURL: https://www.spcr.cz/cesko-africka-konferen
 ce-o-investicnich-obchodnich-prilezitostech\nPopis: \n\nOdbor ekonomické 
 diplomacie Ministerstva zahraničních věcí si Vás dovoluje pozvat na 
 Česko-africkou konferenci o investičních a obchodních příležitostec
 h pro české firmy na trzích v Etiopii\, Ghaně\, Jihoafrické republice
 \, Keni a Zambii. Akce proběhne 26. 4. 2023 v prostorách Černínského 
 paláce.\nV rámci dopoledního programu proběhne série prezentací ekon
 omických diplomatů\, kteří působí na zastupitelských úřadech Čes
 ké republiky v:\n\nEtiopii (Pavel Šára)\,\nGhaně (Beata Matusiková)\,
 \nJihoafrické republice (David Vaverka)\,\nKeni (Marta Anna Ledgard)\,\nZ
 ambii (Václav Kuželka).\n\nDále budou následovat prezentace zástupců
  afrických investičních agentur. Účastníkům konference budou prezen
 tovat aktuální obchodní a investiční příležitosti na jednotlivých
  trzích\, ale také informace o kultuře obchodního jednání\, specifik
 ách trhů a stavu ekonomiky v každé z těchto zemí.\nOdpolední progra
 m začne prezentacemi zástupců finančních institucí. Dále budou nás
 ledovat teritoriální kulaté stoly\, v rámci kterých bude možnost dis
 kutovat s ekonomickými diplomaty\, finančními institucemi i africkými 
 zástupci investičních agentur. Celá akce bude zakončena recepcí.\n\n
 Na konferenci se prosím registrujte na: AkceOED@mzv.cz\nPozvánka ke sta
 žení\n
URL:https://www.spcr.cz/cesko-africka-konference-o-investicnich-obchodnich-
 prilezitostech
DTSTART:20230426T000000
DTEND:20230426T235959
LOCATION:
END:VEVENT
END:VCALENDAR
