BEGIN:VCALENDAR
PRODID:-//eluceo/ical//2.0/EN
VERSION:2.0
CALSCALE:GREGORIAN
BEGIN:VEVENT
UID:aa66b2781637e96d18cdb34473ebdbf0
DTSTAMP:20260423T145939Z
SUMMARY:Podnikatelská mise do Japonska a Korejské republiky
DESCRIPTION:Název akce: Podnikatelská mise do Japonska a Korejské republ
 iky\nURL: https://www.spcr.cz/podnikatelska-mise-do-japonska-korejske-repu
 bliky\nPopis: \n\nZveme Vás k účasti v podnikatelské misi do Japonska
  a Koreje (Tokio\, Hirošima\, Soul\, Sedžong a Tedžon). Mise je organiz
 ovaná Svazem průmyslu a dopravy ČR z pověření místopředsedu vlády
  pro digitalizaci a ministra pro místní rozvoj ČR. Podnikatelskou misi 
 povede viceprezidentka SP ČR Milena Jabůrková. Na organizaci programu n
 a místě se podílí Velvyslanectví ČR v Tokiu a Soulu ve spolupráci 
 s místními partnery.\nTěšíme se na Vás v termínu 10. až 17. červ
 na 2023.\nMise se koná při příležitosti pracovní návštěvy místop
 ředsedy vlády pro digitalizaci a ministra pro místní rozvoj ČR Ivana 
 Bartoše v Japonsku a v Koreji\, kterou mj. doprovodí i představitelé 
 Kabinetu místopředsedy vlády pro digitalizaci. Návštěva bude v obla
 sti ekonomické spolupráce zaměřena zejména na obory související s I
 CT (a to v širším pojetí\, tedy například i související ICT a tech
 nologická řešení\, a to především v oblastech kyberbezpečnosti\, A
 I\, či gamingu)\, a dále v oblasti cestovního ruchu.\nV předběžném
  programu mise počítáme s organizací networkingových akcí za příto
 mnosti místopředsedu vlády a japonských nebo korejských firem v obou 
 navštívených zemích\, návštěvy firem z oblasti technologií a cesto
 vního ruchu\, návštěva některých z výzkumných univerzit a technolo
 gických inkubátorů\, akcelerátorů či inovačních center.\nDalší p
 rogram v jednání/bude doplňován a upřesňován.\nUzávěrka závazn
 ých přihlášek je 19. května 2023.\nZálohová cena za účast v podn
 ikatelské delegaci je 71.100\,- Kč včetně DPH pro členy Svazu průmys
 lu a dopravy ČR a 79.000\,- Kč včetně DPH pro nečleny. Obsah účastn
 ického balíčku je rozepsán v přihlášce.\nPřihlášení na podnika
 telskou misi zahrnuje 3 kroky: \n\nVyplnění a podepsání závazné při
 hlášky\, její naskenování a zaslání e-mailem na adresu mnatafalusi
 @spcr.cz nejpozději do 15. května 2023.\nSoučasně s přihláškou je
  nutné vyplnit i elektronický formulář\, který obsahuje informace nez
 bytné pro Vaše uvedení v katalogu podnikatelské mise\, vyhledání vh
 odných partnerů pro B2B networking\, ale i pro odbavení v letadle vlá
 dní letky či ubytování v hotelu.\nZaslání skenu datové stránky va
 šeho pasu (platnost pasu min. 6 měsíců od vstupu do dané krajiny).\n\
 nUpozorňujeme\, že bez vyplnění elektronického formuláře nemůžeme
  Vaši přihlášku zpracovat. Výběr místních firem a partnerů pro ne
 tworking bude probíhat na základě Vámi dodaných profilů a informací
  o Vaší firmě v tomto elektronickém formuláři.  Prosíme proto o c
 o nejkonkrétnější upřesnění Vašich zájmů. \nPři vyplňování 
 profilu mějte prosím na paměti\, že slouží také jako podklad pro v
 ýrobu prezentačního tištěného katalogu mise\, jehož cílem je co ne
 jlépe druhou stranu seznámit s profily a kontaktními údaji zúčastně
 ných firem. Výrobu katalogu zajišťuje pro Svaz průmyslu a dopravy ext
 erní dodavatel Copy General\, jehož zástupce Vás během přípravy mis
 e bude kontaktovat s prosbou o dodání fotografie účastníka mise a poz
 ději s návrhem stránky k autorizaci. Snahou je vytvořit profesionáln
 í a přehledný tištěný materiál s informacemi o všech účastnící
 ch.\nProsíme také o vyplnění jednoho vzorového snímku v powerpointu
  do společné prezentace\, která může být promítána v rámci netw
 orkingových akcí. \nPo obdržení Vaší závazné přihlášky a prove
 dení elektronické registrace Vám zašleme další pokyny a zálohovou f
 akturu na účastnický poplatek.  Další podklady a informace Vám bude
 me průběžně zasílat elektronickou poštou. Podnikatelskou misi organi
 začně zajišťuje manažer Sekce vnějších vztahů Ing. Martin Natafal
 uši (mnatafalusi@spcr.cz). Bližší informace Vám poskytneme na tel. 73
 3 643 556.\nVzhledem k omezené kapacitě prosíme o včasnou registraci
 . Pořadatelé si vyhrazují právo odmítnout zájemce o účast s ohled
 em na vhodnost oborového zaměření\, či v případě převisu poptáv
 ky nad počtem míst v letadle. Děkujeme za pochopení.\nTěšíme se na 
 Vaši účast a spolupráci s Vámi.\n
URL:https://www.spcr.cz/podnikatelska-mise-do-japonska-korejske-republiky
DTSTART:20230610T000000
DTEND:20230617T235959
LOCATION:
END:VEVENT
END:VCALENDAR
