BEGIN:VCALENDAR
PRODID:-//eluceo/ical//2.0/EN
VERSION:2.0
CALSCALE:GREGORIAN
BEGIN:VEVENT
UID:043ad72ca931a5643f123748e17090a3
DTSTAMP:20260423T125837Z
SUMMARY:UP! 2023 Fórum udržitelného podnikání: „Udržitelnost v part
 nerství“
DESCRIPTION:Název akce: UP! 2023 Fórum udržitelného podnikání: „Udr
 žitelnost v partnerství“\nURL: https://www.spcr.cz/2023-forum-udrzitel
 neho-podnikani-udrzitelnost-v-partnerstvi\nPopis: \n\nZveme Vás srdečně
  na Fórum udržitelného podnikání: UP! 2023 \nUP!2023 je největší 
 setkání firem a společností\, odborných institucí v rámci odpovědn
 ého a udržitelného podnikání v České republice! Letošní UP! 202
 3 nese název „Udržitelnost v partnerství“. Fórum UP!2023 je mezin
 árodní event\, bude simultánně tlumočený do češtiny a angličtiny\
 , účast je možná nejen prezenční\, ale i v on-line prostoru. Do vše
 ch částí programu zveme VIP mluvčí ve svých profesích a oborech.\n 
 \nChci zjistit více\n
URL:https://www.spcr.cz/2023-forum-udrzitelneho-podnikani-udrzitelnost-v-pa
 rtnerstvi
DTSTART:20230323T093000
DTEND:20230323T130000
LOCATION:
END:VEVENT
END:VCALENDAR
