BEGIN:VCALENDAR
PRODID:-//eluceo/ical//2.0/EN
VERSION:2.0
CALSCALE:GREGORIAN
BEGIN:VEVENT
UID:ea22ab2d5dcc5f9806f57070892f52bc
DTSTAMP:20260423T113824Z
SUMMARY:Živá knihovna povolání Jablonec n. Nisou
DESCRIPTION:Název akce: Živá knihovna povolání Jablonec n. Nisou\nURL:
  https://www.spcr.cz/ziva-knihovna-povolani-jablonec-n-nisou\nPopis: \n\nR
 ozhodujete se\, na jakou střední školu půjdete? Čím chcete být? Nap
 adlo vás\, kde můžete po škole pracovat?\nPřijďte si na vlastní ků
 ži vyzkoušet zajímavé profese!Seznamte se s firmami ve tvém okolí a 
 vyberte si tu správnou školu.\nS rozhodováním vám pomůže:• seřiz
 ovač – Preciosa a.s.• kariérový poradce – ÚP ČR\, Krajská pobo
 čka v Liberci\, Kontaktní pracoviště Jablonec nad Nisou• svářeč 
 – BENTELER ČR s.r.o.• elektronik a elektromechanik – ZF Automotive 
 Czech s.r.o.• rytec\, obráběč kovů\, brusička – Česká mincovna 
 a.s.• nástrojař\, CAD designer\, CNC obráběč a programátor - A.RAY
 MOND JABLONEC s.r.o.• konstruktér – ABB s.r.o.• zdravotní sestra\,
  instrumentářka\, sanitář - Nemocnice Jablonec nad Nisou\, p.o.• pol
 icista – Krajské ředitelství policie Libereckého kraje a městský s
 trážník - Městská policie Jablonec nad Nisou\nBližší informace a k
 ontakt pro registraci na telefonu 225 279 881 nebo 733 643 520.\n
URL:https://www.spcr.cz/ziva-knihovna-povolani-jablonec-n-nisou
DTSTART:20230419T000000
DTEND:20230419T235959
LOCATION:
END:VEVENT
END:VCALENDAR
