BEGIN:VCALENDAR
PRODID:-//eluceo/ical//2.0/EN
VERSION:2.0
CALSCALE:GREGORIAN
BEGIN:VEVENT
UID:ca92ce3f704f1d0f1836516936c5d6ce
DTSTAMP:20260423T125756Z
SUMMARY:2023 China International Consumer Products Expo
DESCRIPTION:Název akce: 2023 China International Consumer Products Expo\nU
 RL: https://www.spcr.cz/2023-china-international-consumer-products-expo-0\
 nPopis: \n\n2023 Hainan Expo will be held in Haikou\, the capital city of 
 Hainan Province\, from April 11 to 15\, 2023.\nChina International Consume
 r Products Expo (hereinafter Hainan Expo) is one of the four major nationa
 l-level exhibitions\, co-hosted by the Ministry of Commerce and the People
 ’s Government of Hainan Province. Hainan Expo is written into the Overal
 l Plan for the Construction of Hainan Free Trade Port and the Report on th
 e Work of the Government of the State Council. It is also the first nation
 al exhibition with the theme of consumer products and the largest consumer
  product exhibition in the Asia- Pacific region.\nThe 2023 Hainan Expo\, w
 ith the theme of “Share open opportunities to create a better life”\, 
 will keep focusing on “high-quality” and “new” consumer products. 
 The total exhibition area is 100\,000 m² of which 80\,000 m² is internat
 ional exhibition area. Italy will be the country of honor of this year.\nD
 etailed information\nInvitation Letter\nContact Information: Mingqing FUMo
 bile Phone Number: 86-177 3319 5266Email: fumingqing@investhainan.cnWebsit
 e: www.hainanexpo.org.cn\n
URL:https://www.spcr.cz/2023-china-international-consumer-products-expo-0
DTSTART:20230411T080000
DTEND:20230415T170000
LOCATION:
END:VEVENT
END:VCALENDAR
