BEGIN:VCALENDAR
PRODID:-//eluceo/ical//2.0/EN
VERSION:2.0
CALSCALE:GREGORIAN
BEGIN:VEVENT
UID:b63ba8a5179c3151ea7ad2a71349977f
DTSTAMP:20260423T130625Z
SUMMARY:Novinky v zákoníku práce s prof. JUDr. Petrem Hůrkou Ph.D.
DESCRIPTION:Název akce: Novinky v zákoníku práce s prof. JUDr. Petrem H
 ůrkou Ph.D.\nURL: https://www.spcr.cz/novinky-v-zakoniku-prace-s-prof-jud
 r-petrem-hurkou-phd\nPopis: \n\nSeminář je zaměřen na změny obsažen
 é v transpoziční novele zákoníku práce:\n\nDigitalizace právního j
 ednání – elektronické uzavírání smluv\nInformování o obsahu prac
 ovních podmínek\nDohody o pracích konaných mimo pracovní poměr\nPrac
 ovní úlevy v souvislosti s péči o děti\nVýkon práce na dálku a n
 áhrada výdajů s ní spojených\nDoručování písemností-elektronizac
 e\nDiskuse\, závěr\n\nRegistrace\n\n\nNa seminář se můžete přihlás
 it zde: https://regform.spcr.cz/cs/novinky-v-zakoniku-prace-17/register\n
 \nCo řekli absolventi našeho předchozího semináře k zákoníku prác
 e?\n"Chtěla bych poděkovat za velmi záživné školení\, které bylo j
 istě dáno vystupováním\, přístupem\, profesionalitou a nadšením le
 ktora… Děkuji za organizaci i výborný catering."  Ing. Simona Krav
 číková\, HR Business Partner\, VÍTKOVICE STEEL\, a.s.\n
URL:https://www.spcr.cz/novinky-v-zakoniku-prace-s-prof-judr-petrem-hurkou-
 phd
DTSTART:20230329T090000
DTEND:20230329T120000
LOCATION:
END:VEVENT
END:VCALENDAR
