BEGIN:VCALENDAR
PRODID:-//eluceo/ical//2.0/EN
VERSION:2.0
CALSCALE:GREGORIAN
BEGIN:VEVENT
UID:cc61ca2c3e040db561f03fc47a386530
DTSTAMP:20260423T150254Z
SUMMARY:Seminář k návrhu minimální daně
DESCRIPTION:Název akce: Seminář k návrhu minimální daně\nURL: https:
 //www.spcr.cz/seminar-k-navrhu-minimalni-dane\nPopis: \n\nJednání probě
 hne ve velké zasedací místnosti v budově Svazu průmyslu a dopravy ČR
  za účasti zástupců ministerstva financí.\nSvou účast na jednání 
 prosím potvrďte přes registrační formulář. Seminář je pro členy 
 zdarma\, pro nečlenské organizace za 3.500\,- Kč bez DPH.\nJednání bu
 de probíhat hybridní formou\, tj. prezenčně s možností připojení o
 n-line. Odkaz na on-line platformu bude zaslán před jednáním potvrzen
 ým účastníkům jednání.\nPozvánka\nTěšíme se na shledání!\n
URL:https://www.spcr.cz/seminar-k-navrhu-minimalni-dane
DTSTART:20230328T130000
DTEND:20230328T160000
LOCATION:
END:VEVENT
END:VCALENDAR
