BEGIN:VCALENDAR
PRODID:-//eluceo/ical//2.0/EN
VERSION:2.0
CALSCALE:GREGORIAN
BEGIN:VEVENT
UID:d03d31050a3dbdfcc340403e2006d559
DTSTAMP:20260423T125756Z
SUMMARY:Živá knihovna povolání Jičín
DESCRIPTION:Název akce: Živá knihovna povolání Jičín\nURL: https://w
 ww.spcr.cz/ziva-knihovna-povolani-jicin\nPopis: \n\nRozhodujete se\, na ja
 kou střední školu půjdete? Čím chcete být? Přijďte si na vlastní
  kůži vyzkoušet zajímavé profese!Seznamte se s firmami ve svém okol
 í a vyberte si tu správnou školu.S rozhodováním vám pomůže:\n\n 
 Fyzioterapeut – Oblastní nemocnice Jičín a.s.\n Seřizovač / údrž
 ba - HYDRA a.s.\n Seřizovač CNC obráběcích strojů\, obsluha automat
 ického licího stroje na slévárně odlitků a pracovník metalografick
 é laboratoře - Seco Industries\, s.r.o.\n Metrolog - Continental Automo
 tive Czech Republic s.r.o.\n Vývojový konstruktér\, Elektrotechnik –
  MZ Liberec\, a.s.\n Technik speciálních zakázek - SQS Vláknová opti
 ka a.s.\n Seřizovač/Technolog - SpofaDental a.s. (Kerr)\n\nBližší in
 formace a kontakt pro registraci Ing. N. Vojtíšková\, mobil 733 643 5
 20.\n
URL:https://www.spcr.cz/ziva-knihovna-povolani-jicin
DTSTART:20230412T000000
DTEND:20230412T235959
LOCATION:
END:VEVENT
END:VCALENDAR
