BEGIN:VCALENDAR
PRODID:-//eluceo/ical//2.0/EN
VERSION:2.0
CALSCALE:GREGORIAN
BEGIN:VEVENT
UID:fd107c90dd5b760a0dcc36ec4504e8ec
DTSTAMP:20260423T130652Z
SUMMARY:Webinář: Základní prověření čínského dodavatele před prv
 ním obchodem
DESCRIPTION:Název akce: Webinář: Základní prověření čínského dod
 avatele před prvním obchodem\nURL: https://www.spcr.cz/webinar-zakladni-
 provereni-cinskeho-dodavatele-pred-prvnim-obchodem\nPopis: \n\nČína jako
 žto „továrna světa“ hraje nezaměnitelnou roli v dodavatelském ř
 etězci a s jejími společnostmi se ty české dostávají do styku kaž
 dý den. Ne každý čínský dodavatel však podniká s čistými úmysl
 y. Zejména s pandemií covid-19\, během níž bylo osobní setkání s
  obchodním partnerem téměř nemožné\, podstatně vzrostl počet podv
 odů.\nČínských dodavatelů je bezpočet\, jak tedy vybrat toho správn
 ého a provést si jeho základní prověření?\nPrávě tímto Vás prov
 ede webinář a na názorných příkladech uvede\, na co si dát pozor a 
 co sledovat při komunikaci s čínským dodavatelem. Přednášejícím 
 hostem bude odborník z oboru Alessio Pettino\, obchodní poradce z organ
 izace EU SME Centre. Kromě nejčastějších podvodů čínských dodavat
 elů rovnež představí svou organizaci\, jejíž cílem je pomáhat evro
 pským malým a středním podnikům při jejich působení v Číně.\nW
 ebinář proběhne z velké části v anglickém jazyce.\nPro registraci
  kontaktujte: Commerce_beijing@mzv.cz\n
URL:https://www.spcr.cz/webinar-zakladni-provereni-cinskeho-dodavatele-pred
 -prvnim-obchodem
DTSTART:20230309T090000
DTEND:20230309T100000
LOCATION:
END:VEVENT
END:VCALENDAR
