BEGIN:VCALENDAR
PRODID:-//eluceo/ical//2.0/EN
VERSION:2.0
CALSCALE:GREGORIAN
BEGIN:VEVENT
UID:4ba3febea36e318f07fbea74cb799cc9
DTSTAMP:20260423T125212Z
SUMMARY:Jak přežít (s) ESG
DESCRIPTION:Název akce: Jak přežít (s) ESG\nURL: https://www.spcr.cz/ja
 k-prezit-s-esg\nPopis: \n\nV čem konkrétně ESG dokáže velkým i mal
 ým firmám pomoci v oblasti repution managementu? Jak se koncept udržit
 elnosti odráží v komunikačních strategiích lídrů? Na co všechno 
 má rating udržitelnosti vliv?  Nejen to se dozvíte na chystané konfe
 renci koncipované zejména pro posluchače zkušené v oboru\, kteří s
  danou problematikou již pracují.\n\npro členy SP ČR platí mimořád
 ná sleva 50%\ndo registračního formuláře do místa pro poznámky u f
 akturačních údajů prosím napište\, že jste členem SP ČR\n\nVíce 
 informací\n
URL:https://www.spcr.cz/jak-prezit-s-esg
DTSTART:20230329T130200
DTEND:20230329T170000
LOCATION:
END:VEVENT
END:VCALENDAR
