BEGIN:VCALENDAR
PRODID:-//eluceo/ical//2.0/EN
VERSION:2.0
CALSCALE:GREGORIAN
BEGIN:VEVENT
UID:99488c40f5010b3a6789b97d5f3caf67
DTSTAMP:20260423T125644Z
SUMMARY:Clusters meet Regions - obchodním partnerství EU-Ukrajina
DESCRIPTION:Název akce: Clusters meet Regions - obchodním partnerství EU
 -Ukrajina\nURL: https://www.spcr.cz/clusters-meet-regions-obchodnim-partne
 rstvi-eu-ukrajina\nPopis: \n\nDovolujeme si Vás pozvat na Workshop „Clu
 sters meet Regions“ \, který se bude konat ve dnech 29. a 30. března 2
 023 hybridně v Košicích na Slovensku. Na akci se sejde přes 200 zást
 upců klastrů a společností z EU a Ukrajiny\, dále národní a region
 ální veřejné orgány a organizace na podporu podnikání ze Slovenska 
 a dalších regionů EU\, výzkumní pracovníci\, členové občanské sp
 olečnosti\, finanční zprostředkovatelé\, inovační agentury\, průmy
 slová sdružení\, investory a další související subjekty. \n\nTato 
 akce bude příležitostí k vybudování obchodních vztahů mezi EU a Uk
 rajinou a k nalezení partnerů pro obchodování a investice.\nCílem té
 to akce je zlepšit diverzifikaci trhů a dodavatelů pro společnosti z E
 U a Ukrajiny a přetvořit průmyslové hodnotové řetězce. V posledníc
 h týdnech bilaterální výměny mezi ukrajinskými a evropskými klastry
  ukázaly obchodní příležitosti pro obě strany\, např. v zemědělsk
 o-potravinářském průmyslu\, stavebnictví\, pokročilé výrobě\, aut
 omobilovém průmyslu\, textilu\, zdravotnictví\, energetice\, obraně\, 
 surovinách\, sociální ekonomice. Klastry jsou integrátory a facilitát
 ory této spolupráce.\n\nAkce by měla poskytnout základ pro vytvoření
  odolných přeshraničních sítí vytvořených na podporu výměny info
 rmací a zdrojů mezi různými zúčastněnými stranami zapojenými do k
 lastrů. Bude také podporovat přeshraniční uznávání\, které pomáh
 á podporovat ducha spolupráce a porozumění mezi zúčastněnými stran
 ami.\n\nVíce informací a možnost registrace zde. \n
URL:https://www.spcr.cz/clusters-meet-regions-obchodnim-partnerstvi-eu-ukra
 jina
DTSTART:20230329T130000
DTEND:20230330T170000
LOCATION:
END:VEVENT
END:VCALENDAR
