BEGIN:VCALENDAR
PRODID:-//eluceo/ical//2.0/EN
VERSION:2.0
CALSCALE:GREGORIAN
BEGIN:VEVENT
UID:a91440ffa4c4d52ed7adad4bc558157d
DTSTAMP:20260423T145806Z
SUMMARY:Seminář k národní databázi patentů a užitných vzorů
DESCRIPTION:Název akce: Seminář k národní databázi patentů a užitn
 ých vzorů\nURL: https://www.spcr.cz/seminar-k-narodni-databazi-patentu-u
 zitnych-vzoru\nPopis: \n\nÚřad průmyslového vlastnictví pořádá pro
  zájemce z řad podnikatelů\, pracovníků výzkumu a vývoje\, student
 ů i širší veřejnosti online seminář k národní databázi patentů
  a užitných vzorů.\nV průběhu semináře se účastníci seznámí s 
 obsahem a základními funkcionalitami databáze.\nTermín: 28. 2. 2023 od
  9:00 hodinÚčast na semináři je zdarma.\nVíce informací (pdf\, 119
  kB)\nRegistrace\n
URL:https://www.spcr.cz/seminar-k-narodni-databazi-patentu-uzitnych-vzoru
DTSTART:20230228T090000
DTEND:20230228T170000
LOCATION:
END:VEVENT
END:VCALENDAR
