BEGIN:VCALENDAR
PRODID:-//eluceo/ical//2.0/EN
VERSION:2.0
CALSCALE:GREGORIAN
BEGIN:VEVENT
UID:0cf5ae7fd391f0d35fc2d88e2575e744
DTSTAMP:20260423T124851Z
SUMMARY:The 133rd Canton Fair
DESCRIPTION:Název akce: The 133rd Canton Fair\nURL: https://www.spcr.cz/13
 3rd-canton-fair\nPopis: \n\nChina Import and Export Fair\, also known as t
 he “Canton Fair”\, is an important channel for China’s foreign trade
  sector and a demonstration of China’s opening up policy. It plays a key
  role in advancing the development of China’s foreign trade and the econ
 omic and trade exchanges between China and the rest of the world. And it i
 s renowned as “China’s No. 1 Fair”.\nThe 133rd Canton Fair is schedu
 led to be held on April 15th and will be held onsite and online.\nIntrodu
 ction\nInvitation\nRegistration\n
URL:https://www.spcr.cz/133rd-canton-fair
DTSTART:20230415T080000
DTEND:20230505T170000
LOCATION:
END:VEVENT
END:VCALENDAR
