BEGIN:VCALENDAR
PRODID:-//eluceo/ical//2.0/EN
VERSION:2.0
CALSCALE:GREGORIAN
BEGIN:VEVENT
UID:41945dd47dca511172ce734e953bf733
DTSTAMP:20260423T145744Z
SUMMARY:Novinky v zákoníku práce s prof. JUDr. Petrem Hůrkou Ph.D.
DESCRIPTION:Název akce: Novinky v zákoníku práce s prof. JUDr. Petrem H
 ůrkou Ph.D.\nURL: https://www.spcr.cz/novinky-v-zakoniku-prace-s-prof-jud
 r-petrem-hurkou-phd-0\nPopis: \n\nSeminář je zaměřen na změny obsaže
 né v transpoziční novele ZP:\n1. Digitalizace právního jednání – 
 elektronické uzavírání smluv 2. Informování o obsahu pracovních po
 dmínek 3. Dohody o pracích konaných mimo pracovní poměr 4. Pracovn
 í úlevy v souvislosti s péči o děti 5. Výkon práce na dálku a n
 áhrada výdajů s ní spojených6. Doručování písemností-elektroniza
 ce7. Diskuse\, závěr.\n\n\nNa seminář se můžete přihlásit zde: ht
 tps://regform.spcr.cz/cs/novinky-v-zakoniku-prace-17/register\n
URL:https://www.spcr.cz/novinky-v-zakoniku-prace-s-prof-judr-petrem-hurkou-
 phd-0
DTSTART:20230329T000000
DTEND:20230329T235959
LOCATION:
END:VEVENT
END:VCALENDAR
