BEGIN:VCALENDAR
PRODID:-//eluceo/ical//2.0/EN
VERSION:2.0
CALSCALE:GREGORIAN
BEGIN:VEVENT
UID:7937664d96608f89929f8a1319d5e62d
DTSTAMP:20260423T130841Z
SUMMARY:Novinky v zákoníku práce s prof. JUDr. Petrem Hůrkou Ph.D.
DESCRIPTION:Název akce: Novinky v zákoníku práce s prof. JUDr. Petrem H
 ůrkou Ph.D.\nURL: https://www.spcr.cz/novinky-v-zakoniku-prace-s-prof-jud
 r-petrem-hurkou-phd-1\nPopis: \n\nSeminář je zaměřen na změny obsaže
 né v transpoziční novele zákoníku práce:\n\nDigitalizace právního 
 jednání – elektronické uzavírání smluv\nInformování o obsahu pra
 covních podmínek\nDohody o pracích konaných mimo pracovní poměr\nPra
 covní úlevy v souvislosti s péči o děti\nVýkon práce na dálku a 
 náhrada výdajů s ní spojených\nDoručování písemností-elektroniza
 ce\nDiskuse\, závěr\n\nRegistrace\n\n\nNa seminář se můžete přihlá
 sit zde: https://regform.spcr.cz/cs/novinky-v-zakoniku-prace-17/register\
 n\nCo řekli absolventi našeho předchozího semináře k zákoníku prá
 ce?\n"Chtěla bych poděkovat za velmi záživné školení\, které bylo 
 jistě dáno vystupováním\, přístupem\, profesionalitou a nadšením l
 ektora… Děkuji za organizaci i výborný catering."  Ing. Simona Krav
 číková\, HR Business Partner\, VÍTKOVICE STEEL\, a.s.\n
URL:https://www.spcr.cz/novinky-v-zakoniku-prace-s-prof-judr-petrem-hurkou-
 phd-1
DTSTART:20230316T090000
DTEND:20230316T120000
LOCATION:
END:VEVENT
END:VCALENDAR
