BEGIN:VCALENDAR
PRODID:-//eluceo/ical//2.0/EN
VERSION:2.0
CALSCALE:GREGORIAN
BEGIN:VEVENT
UID:9f54da67fb50d4835882bdb650836147
DTSTAMP:20260423T125029Z
SUMMARY:Česko-ázerbájdžánská businessová konference
DESCRIPTION:Název akce: Česko-ázerbájdžánská businessová konference
 \nURL: https://www.spcr.cz/cesko-azerbajdzanska-businessova-konference\nPo
 pis: \n\nZveme Vás na Česko-ázerbájdžánskou businessovou konferenci\
 , kterou organizuje Ministerstvo průmyslu a obchodu ve spolupráci s Čes
 kou komorou pro obchod se státy Východní Evropy a Střední Asie (dří
 ve Komora SNS) a Svazem průmyslu a dopravy ČR jako doprovodný program k
  5. zasedání česko-ázerbájdžánské smíšené komise pro hospodář
 skou spolupráci.\nKonference se uskuteční v pátek 3. března 2023 od 8
 :30 do 12:00 h. v Hotelu Grandium (Politických vězňů 913/12\, 110 00 N
 ové Město). Akce se bude dělit na navazující panely\, během kterých
  se bude možné seznámit s příležitostmi spolupráce s ázerbájdžá
 nskými partnery. Během konference se představí například ázerbájd
 žánská agentura pro malé a střední podniky SMBDA (místní zkratka K
 OBIA\, https://smb.gov.az/en/)\, Agentura pro podporu exportu a investic A
 ZPROMO (https://azpromo.az/en) a Center for Analysis and Coordination of t
 he Fourth Industrial Revolution (C4IR). Diskuse se zaměří na podporu ex
 portu a importu\, hledání vhodných možností pro vývoz\, dovoz i inve
 stice v Ázerbájdžánu\, stejně jako možnost navázání kontaktu s fi
 rmami na ázerbájdžánské straně. Důležitými body bude informace o 
 podpoře SMEs a pokročilých technologií. Součástí programu bude pře
 dstavení možností pro investice v Ázerbájdžánu se zaměřením na z
 ónu volného obchodu Alat. V ázerbájdžánském přístavu Alat aktuál
 ně operuje nová ekonomická zóna\, v níž se obchod řídí speciáln
 ími a zvýhodňujícími zákonnými normami. Výhodou zóny Alat je př
 ímé napojení na stávající infrastrukturu Ázerbájdžánu s potenci
 álem dopravního uzlu na cestě zboží z Asie do Evropy přes země Stř
 ední Asie. Alat jsme vytipovali jako jednu ze zajímavých lokací pro č
 eské investice. Více o Alatu pod následujícím odkazem: https://www.bu
 sinessinfo.cz/clanky/azerbajdzan-laka-zahranicni-investice-do-neropneho-se
 ktoru/. Zde dále přikládám odkaz na oficiální webové stránky: http
 s://afez.az/. Samostatnou částí programu potom bude spolupráce v oblas
 ti vodohospodářství a odpadového hospodářství. Za tímto účelem p
 řijede do Prahy delegace představitelů řady institucí\, agentur a ve
 řejných společností včetně poradce ministra ekologie a přírodních
  zdrojů Rasima Sattarzady. Z AZ strany dále očekáváme účast např. 
 náměstka ministra hospodářství Sahiba Mammadova\, předsedy zóny vol
 ného obchodu Alat Valeha Alasgarova\, ředitele pro investice v Agentuře
  pro investice Zohraba Gadirova\, zástupce agentury pro podporu malých a
  středních podniků\, představitele Center for Analysis and Coordinatio
 n of the Fourth Industrial Revolution (C4IR) a dalších. V případě Va
 šeho zájmu o účast na této akci či dotazů kontaktujte Matyáše Vik
 toru pomocí této e-mailové adresy (viktora@mpo.cz) či na telefonním 
 čísle +420 224 852 003. Registrace je otevřena do 1. 3. 2023.\n \n
URL:https://www.spcr.cz/cesko-azerbajdzanska-businessova-konference
DTSTART:20230303T083000
DTEND:20230303T120000
LOCATION:
END:VEVENT
END:VCALENDAR
