BEGIN:VCALENDAR
PRODID:-//eluceo/ical//2.0/EN
VERSION:2.0
CALSCALE:GREGORIAN
BEGIN:VEVENT
UID:ae8f8e46dc305ba7639f9e6690ea1d74
DTSTAMP:20260423T145749Z
SUMMARY:Trade Forum on Decarbonization Standards
DESCRIPTION:Název akce: Trade Forum on Decarbonization Standards\nURL: htt
 ps://www.spcr.cz/trade-forum-decarbonization-standards\nPopis: \n\nThe Tra
 de Forum for Decarbonization Standards: Promoting transparency and coheren
 ce in the iron and steel sector will promote a multi-stakeholder dialogue 
 on the role of coherent and transparent standards in accelerating the glob
 al scale-up of low-carbon steelmaking technologies and avoiding trade fric
 tions. This event will bring together WTO Members\, industry\, standards b
 odies\, international organizations\, and academic experts to share perspe
 ctives on challenges and opportunities around decarbonization standards an
 d the potential role of the WTO in promoting international cooperation wit
 h a focus on the iron and steel supply chain.\nTo see the full programme a
 nd speakers\, please visit the event page.\nFor registration please follow
  these links:\n\nIn-person registration\nZoom registration\n
URL:https://www.spcr.cz/trade-forum-decarbonization-standards
DTSTART:20230309T140000
DTEND:20230309T180000
LOCATION:
END:VEVENT
END:VCALENDAR
