BEGIN:VCALENDAR
PRODID:-//eluceo/ical//2.0/EN
VERSION:2.0
CALSCALE:GREGORIAN
BEGIN:VEVENT
UID:c6b606cfea6d9fc03018ce3dbc592b9d
DTSTAMP:20260423T125705Z
SUMMARY:Živá knihovna povolání Náchod
DESCRIPTION:Název akce: Živá knihovna povolání Náchod\nURL: https://w
 ww.spcr.cz/ziva-knihovna-povolani-nachod\nPopis: \n\nPřijďte si na vlast
 ní kůži vyzkoušet zajímavé profese!Seznamte se s firmami ve tvém ok
 olí a vyberte si tu správnou školu. S rozhodováním vám pomůže:\n\n
  Elektromontér - ČEZ DISTRIBUCE a.s.\n Hodinář - ELTON hodinářská
  a.s.\n Konstruktér – Wikov MGI a.s.\n Praktická sestra\, sociální
  činnost\, ošetřovatel - Oblastní nemocnice Náchod\, a. s. + Středn
 í zdravotnická škola Náchod – Evangelická akademie\n Nástrojař\,
  elektromechanik - ATAS elektromotory Náchod a.s.\n Montážní pracovn
 ík\, konstruktér – MZ Liberec a.s.\n Servisní technik - Ammann Czech
  Republic a.s.\n\nÚčast je možná po předchozí registraci. Bližší 
 informace a kontakt pro registraci Ing. N. Vojtíšková\, mobil 733 643 5
 20.\n
URL:https://www.spcr.cz/ziva-knihovna-povolani-nachod
DTSTART:20230308T000000
DTEND:20230308T235959
LOCATION:
END:VEVENT
END:VCALENDAR
