BEGIN:VCALENDAR
PRODID:-//eluceo/ical//2.0/EN
VERSION:2.0
CALSCALE:GREGORIAN
BEGIN:VEVENT
UID:547b84fbe2c7af28cc687f314be43fb9
DTSTAMP:20260423T150144Z
SUMMARY:CzechTrade Meeting Point 2023
DESCRIPTION:Název akce: CzechTrade Meeting Point 2023\nURL: https://www.sp
 cr.cz/czechtrade-meeting-point-2023\nPopis: \n\nZveme Vás na nadcházejí
 cí akci CzechTrade Meeting Point\, která se uskuteční v Kongresovém c
 entru Praha ve dnech 20.2.-21.2.2023. Tato akce umožňuje českým export
 érům konzultovat exportní témata přímo s řediteli zahraničních ka
 nceláří CzechTrade z více než 60 zemí světa\, kteří opět po roce
  přijedou do Prahy. Cílem akce je poskytnout českým firmám odborné z
 nalosti zahraničních specialistů CzechTrade a pomoci jim tak úspěšn
 ě realizovat své exportní aktivity.V rámci této akce zároveň nabíz
 íme pro zájemce o zapojení do poválečné rekonstrukce Ukrajiny konzul
 tace s pracovníky Ministerstva průmyslu a obchodu u stolku Business klub
  Ukrajina. Tyto 30minutové konzultace Vám poskytnou možnost se zoriento
 vat v aktuálních příležitostech zapojení do obnovy Ukrajiny\, možno
 stech financování projektů a nejnovějších plánovaných akcích.Úč
 ast na akci je zdarma. Více informací naleznete na webových stránkách
  akce. Na konzultace u stolku Business klub Ukrajina se můžete hlásit d
 o 17.2.2023 na e-mailové adrese marketing@czechtrade.cz.\n
URL:https://www.spcr.cz/czechtrade-meeting-point-2023
DTSTART:20230220T000000
DTEND:20230221T235959
LOCATION:
END:VEVENT
END:VCALENDAR
