BEGIN:VCALENDAR
PRODID:-//eluceo/ical//2.0/EN
VERSION:2.0
CALSCALE:GREGORIAN
BEGIN:VEVENT
UID:dfa2bb6af0cf01930fd5c94218ed9a1b
DTSTAMP:20260423T163252Z
SUMMARY:Průmyslový plán Zelené dohody
DESCRIPTION:Název akce: Průmyslový plán Zelené dohody\nURL: https://ww
 w.spcr.cz/prumyslovy-plan-zelene-dohody\nPopis: \n\nZveme vás na debatu 
 „Průmyslový plán Zelené dohody“\, organizovanou CEBRE – Česká 
 podnikatelská reprezentace při EU se sídlem v Bruselu ve spolupráci se
  Zastoupením Evropské komise v České republice\, která se uskuteční
  se v pondělí 27. února od 16:00 do 18:00 v Evropském domě v Praze.C
 ílem debaty je diskutovat Průmyslový plán Zelené dohody\, jaká opat
 ření přijme Evropská unie ve vztahu k zajištění rovných podmínek 
 pro všechny členské státy a jaký vliv bude mít tento plán na česk
 é podnikatelské prostředí. V rámci debaty budeme společně hledat od
 povědi na tyto otázky:• Která opatření na podporu zelené transform
 ace průmyslu považujete za účinná?• Zajistí navrhovaný plán Evro
 pské komise dostatečné podmínky pro tuto transformaci?• Jak mohou US
 A a EU lépe spolupracovat při řešení globálních problémů\, jaké 
 představují změna klimatu či dostupnost kritických materiálů?Diskut
 ovat s Vámi budou:• Dita Charanzová\, místopředsedkyně\, Evropský 
 parlament• Daniel Braun\, vedoucí kabinetu místopředsedkyně Evropsk
 é komise Věry Jourové• Martin Hronza\, ředitel odboru ekonomických 
 analýz\, Ministerstvo průmyslu a obchodu České republiky• Dagmar Kuc
 htová\, generální ředitelka\, Svaz průmyslu a dopravy České republi
 ky• Aneta Zachová\, moderátorka\, EURACTIV.czDebata je v českém jazy
 ce\, zdarma. Přihlášku na danou akci najdete zde\n
URL:https://www.spcr.cz/prumyslovy-plan-zelene-dohody
DTSTART:20230227T160000
DTEND:20230227T180000
LOCATION:
END:VEVENT
END:VCALENDAR
