BEGIN:VCALENDAR
PRODID:-//eluceo/ical//2.0/EN
VERSION:2.0
CALSCALE:GREGORIAN
BEGIN:VEVENT
UID:a12cbf82dfde5ce7e802afc23036b7d5
DTSTAMP:20260423T173702Z
SUMMARY:Proč by měly startupy zvážit expanzi do Hongkongu?
DESCRIPTION:Název akce: Proč by měly startupy zvážit expanzi do Hongko
 ngu?\nURL: https://www.spcr.cz/proc-mely-startupy-zvazit-expanzi-do-hongko
 ngu\nPopis: \n\nProč by měly startupy zvážit expanzi do Hongkongu? Mě
 sto nabízí příznivé obchodní prostředí na podporu inovativních st
 artupů\, a tak se zařadilo mezi nejvýznamnější startup huby na svět
 ě.Kromě toho\, že je Hongkong jedním z nejzajímavějších měst na s
 větě\, je i důležitým technologickým centrem. Hongkong je považová
 n za přední startupovou destinaci\, a hongkongský startup ekosystém za
 znamenal za posledních 25 let působivý růst.\n\nV Hongkongu působí v
 íce než 3 700 startupů (2021)\nPodpora startupů: inkubátory a akceler
 átory\, vládní financování a soukromý kapitál.\n\nPokud i vy uvažu
 jete o expanzi svého podnikání do Hongkongu a chcete vědět\, jak vyu
 žít příznivé podnikatelské prostředí pro startupy\, přihlaste se 
 na náš seminář. Řečníci\, kteří mají bohaté zkušenosti z této
  destinace Vám zodpoví tvé otázky.\nLink k registraci na akci pořáda
 nou CzechInvest: ZDE. \n
URL:https://www.spcr.cz/proc-mely-startupy-zvazit-expanzi-do-hongkongu
DTSTART:20230309T153000
DTEND:20230309T180000
LOCATION:
END:VEVENT
END:VCALENDAR
