BEGIN:VCALENDAR
PRODID:-//eluceo/ical//2.0/EN
VERSION:2.0
CALSCALE:GREGORIAN
BEGIN:VEVENT
UID:a63429da86047baf526216c4d691c6b2
DTSTAMP:20260423T145024Z
SUMMARY:Meeting Point CzechTrade
DESCRIPTION:Název akce: Meeting Point CzechTrade\nURL: https://www.spcr.cz
 /meeting-point-czechtrade\nPopis: \n\nTradiční setkání s řediteli zah
 raničních kanceláří CzechTrade\n\nPřijďte na Meeting Point CzechTra
 de konzultovat s řediteli zahraničních kanceláří o exportních téma
 tech. Vaše exportní aktivity ve více než 60 zemích po celém světě 
 vám pomohou řešit ředitelé zahraničních kanceláří CzechTrade\, k
 teří po roce přijedou do Prahy.Hledáte odpovědi na otázky:Jak prodá
 m svoje výrobky či služby do zahraničí?Jak ve světě najdu vhodného
  obchodního partnera?Jakou zvolím formu při vstupu na trh?Jaké jsou ak
 tuální obchodní příležitosti v mém oboru?\nLink pro registraci ZDE.
  \nDatum: únor 2023 20. 2. 2023 — 21. 2. 2023Místo: Kongresové c
 entrum\, 3. patro\, Jižní sál 3\, 5. května 1640/65\, Praha 4\, Česk
 á republika\n
URL:https://www.spcr.cz/meeting-point-czechtrade
DTSTART:20230220T080000
DTEND:20230221T170000
LOCATION:
END:VEVENT
END:VCALENDAR
