BEGIN:VCALENDAR
PRODID:-//eluceo/ical//2.0/EN
VERSION:2.0
CALSCALE:GREGORIAN
BEGIN:VEVENT
UID:691fbca60c77e37ab849ca13d91cbe3e
DTSTAMP:20260423T125316Z
SUMMARY:FOR PASIV\, FOR WOOD a FOR THERM 2023
DESCRIPTION:Název akce: FOR PASIV\, FOR WOOD a FOR THERM 2023\nURL: https:
 //www.spcr.cz/pasiv-wood-therm-2023\nPopis: \n\nÚsporné a ekologické by
 dlení\, vytápění\, trendy mezi dřevostavbami či fotovoltaika nebo st
 átní dotace. Veletržní souběh FOR PASIV\, FOR WOOD a FOR THERM přin
 ese inspiraci i rady odborníků a představí nejvíce produktů i novine
 k ze všech odvětví úsporného bydlení. Událost proběhne v PVA EXPO 
 PRAHA ve dnech 9. až 11. února. Oficiálními vozy veletržního souběh
 u jsou automobily značky FORD.\nNízké provozní náklady domácností\,
  šetření energiemi\, zájem o udržitelné bydlení\,nízkoenergetické
  stavby i ekologické domovy a s tím přicházející moderní technologi
 e čidotační pomoc státu. Takový je aktuální trend zájmu v Česku p
 ro drtivou většinu obyvatel.Seznámit se s tím nejlepším z oborů ní
 zkoenergetických\, pasivních a nulových staveb\,dřevostaveb a vytápě
 ní a využít bezplatného poradenství největšího počtu odborníků 
 najednom místě nabízí unikátní veletržní souběh FOR PASIV\, FOR W
 OOD a FOR THERM.Své zastoupení budou mít v Letňanech tepelná čerpadl
 a\, rekuperační jednotky\,fotovoltaické systémy i technologie větrán
 í. Nebude chybět pestrá nabídka vytápěcíchsystémů\, krbů\, kamen
 \, kotlů\, produktů pro vyhřívání podlah\, ale také venkovních plo
 ch čimoderní stavební materiály. Novinky a zajímavosti poznají i ti 
 návštěvníci veletrhů\, kteří sechystají svůj domov teprve budovat
  a vybírají mezi nízkoenergetickými a ekologickýmistavbami. Jak je mo
 žné snížit náklady na energie stávajícího bydlení\, i když chyb
 í finance aje potřeba rychle jednat\, to poradí na souběhu FOR PASIV p
 racovníci Státního fonduživotního prostředí ČR. Ten ve spolupráci
  s MPSV ČR připravil projekt Nová zelenáúsporám Light. Program nabí
 zí okamžitou finanční podporu až 150 tisíc Kč pro seniory adomácno
 sti s nižšími příjmy na rychlé a jednoduché zateplení domů.„Tak
 é v letošním roce se v PVA EXPO PRAHA sejdou nejvýznamnější výrobc
 i a značkyz Česka i zahraničí zaměřené na úsporné bydlení. Běhe
 m konání akce budou k viděnítechnologie a produkty od firem Heluz\, Yt
 ong\, Wienerberger\, Solar Solution Energy\,Elektrodesign\, Internorm\, Su
 nSystem\, Nema dřevostavby\, RD Rýmařov\, Novatop\, HKDřestav\, DOMY D
 NES\, Klastr česká peleta nebo Krby turbo. Nebudou chybět ani odborníc
 i a jejich rady v Poradenském centru veletrhu\,“ řekla ředitelka vel
 etrhu Kateřina Maštalířová.Veletrh FOR PASIV je tradičním cenným z
 drojem informací nejen pro ty\, kdo chtějí budovatnovostavbu\, ale i pr
 o všechny návštěvníky plánující rekonstrukci stávajících domů.
  V rámciveletrhu FOR WOOD se představí firmy a produkty oboru dřevosta
 veb\, technologickéinovace nebo moderní materiál umožňující navrhov
 at náročné konstrukce a konstrukčníprvky dřevěných domů. FOR THER
 M nabídne portfolio z oblasti vytápění a poskytnezájemcům informace 
 o tom\, jaké místo mají krby\, kotle i kamna v dotačních titulech.\nP
 rogram napříč oboryDoprovodný program nabídne pestré portfolio před
 nášek a akcí. Například ve čtvrtek 9.února od 11:30 bude možné se
 známit se s přístupy k ozeleňování střech\, k trendům isměřován
 í ve světě. Od 14:30 se uskuteční přednáška na téma Jak (ne)utopi
 t modernídřevostavbu. Její přednášející poradí\, na co je třeba 
 myslet při projektování a realizaciosazení dřevostavby do terénu. O 
 tom\, jak se chránit před vysokými cenami energií a jakéjsou možnost
 i dotací\, budou referovat odborníci z firmy G SERVIS ve čtvrtek od 15 
 hodin.Jak na úsporné bydlení\, to prozradí v pátek 10. února od 14:3
 0 zástupci Státního fonduživotního prostředí ČR. Cech kamnářů 
 ČR připravil na souběh přednášku Spalování dřeva aekologie\, kter
 á začne v pátek v 15:30 hodin. Návštěvníci\, kteří se zajímají 
 o stavebnísystémy\, načerpají vědomosti i cenné rady na přednášce
  Srovnání jednotlivých stavebníchsystémů pro stavbu pasivních domů
  v sobotu 11. února od 14:30. Na letňanskémvýstavišti se ve dnech 9. 
 až 11. února nebudou nudit ani děti. Pro rodiny i samotnédospěláky p
 řipravili organizátoři ve spolupráci s organizací PEFC pro podporu za
 lesňováníspeciální akci Zasaď si svůj žalud! Vypěstuj strom a pod
 poř zalesňování.Veletržní trojlístek FOR PASIV\, FOR WOOD a FOR THE
 RM obohatí také souběžná akceStřechy Praha\, která je největší a
 kcí v oboru střech v České republice a střední Evropě stradiční 
 účastí nejvýznamnějších výrobců a dodavatelů. Více na www.forpa
 siv.cz\,www.for-wood.cz\, www.for-therm.cz.\n
URL:https://www.spcr.cz/pasiv-wood-therm-2023
DTSTART:20230209T000000
DTEND:20230211T235959
LOCATION:
END:VEVENT
END:VCALENDAR
