BEGIN:VCALENDAR
PRODID:-//eluceo/ical//2.0/EN
VERSION:2.0
CALSCALE:GREGORIAN
BEGIN:VEVENT
UID:7357d699d943263ae0c97aaa02d6b5d0
DTSTAMP:20260423T130841Z
SUMMARY:Vyhrazená technická zařízení zdvihací dle nové legislativy s
  účinností od 1.7.2022
DESCRIPTION:Název akce: Vyhrazená technická zařízení zdvihací dle no
 vé legislativy s účinností od 1.7.2022\nURL: https://www.spcr.cz/vyhra
 zena-technicka-zarizeni-zdvihaci-dle-nove-legislativy-s-ucinnosti-od-17202
 2\nPopis: \n\nVyhrazená technická zařízení ZDVIHACÍ dle nové legisl
 ativy s účinností od 1. 7. 2022Termín konání: 27. února 2023 od 9:3
 0 hod. do 12:30 hod.Místo konání: Krajská hospodářská komora Králo
 véhradeckého kraje\, Škroupova 957\, Hradec Králové\, zasedací míst
 nost 3. patroRámcový program\n\nPrezence\, občerstvení\nZahájení\nVy
 hrazená (technická) zdvihací zařízení (ZZ) dle nové legislativy s 
 účinností od 1.7.2022\nLegislativní rámec právní úpravy vztahujíc
 í se ke zdvihacím VTZ zákon 250/ 2021 Sb\nLegislativa a související p
 ředpisy ke Zdvihacím zařízením NV 193/ 2022 Sb a další právní sou
 vislosti\nRozdělení jednotlivých oblastí ZZ\nPovinnosti provozovatelů
  ZZ\nNa co si dát pozor při instalaci\, zajištění provozu a dalších
  činnostech ZZ\nPraktické příklady a postupy oblasti ZZ\nDotazy\, disk
 uze\n\nČasový harmonogram9:00 – 9:30 prezence účastníků9:30 – 11
 :00 seminář 1. část11:00 – 11:15 pauza\, občerstvení11:15 – 12:3
 0 seminář 2. částPřednášející:Ing. Martin Röhrich člen rady vl
 ády pro BOZP\, předseda stálého výboru pro technickou bezpečnost př
 i radě vlády a člen odborné pracovní skupiny OKAG při Evropské komi
 si pro bezpečnost práce a ochranu zdraví. Je také OZO BOZP a revizním
  technikem zdvihacích zařízení a elektro.Na seminář přijal pozván
 í rovněž inspektor Oblastního inspektorátu práce pro Královéhradec
 ký a Pardubický kraj Ing. Karel Šimonovský\, dlouholetý inspektor se 
 zaměřením na zdvihací zařízení.CENA:1 700\,- Kč (vč. DPH) pro čl
 eny Svazu průmyslu ČR nebo Krajské hospodářské komory KHK2 300\,- K
 č (vč. DPH) pro ostatní účastníkyNa akci je nutná registrace. Regis
 trujte se prosím do 22. 2. 2023\n
URL:https://www.spcr.cz/vyhrazena-technicka-zarizeni-zdvihaci-dle-nove-legi
 slativy-s-ucinnosti-od-172022
DTSTART:20230227T093000
DTEND:20230227T123000
LOCATION:
END:VEVENT
END:VCALENDAR
