BEGIN:VCALENDAR
PRODID:-//eluceo/ical//2.0/EN
VERSION:2.0
CALSCALE:GREGORIAN
BEGIN:VEVENT
UID:eb58f32c7cd48a231e989dd13453dd9b
DTSTAMP:20260423T130228Z
SUMMARY:Vyhrazená technická zařízení plynová a tlaková dle nové leg
 islativy s účinností od 1.7.2022
DESCRIPTION:Název akce: Vyhrazená technická zařízení plynová a tlako
 vá dle nové legislativy s účinností od 1.7.2022\nURL: https://www.spc
 r.cz/vyhrazena-technicka-zarizeni-plynova-tlakova-dle-nove-legislativy-s-u
 cinnosti-od-172022\nPopis: \n\nVyhrazená technická zařízení PLYNOVÁ 
 a TLAKOVÁ dle nové legislativy s účinností od 1. 7. 2022RÁMCOVÝ PRO
 GRAM\n\n Prezence\, občerstvení\n Zahájení\n Vyhrazená tlaková za
 řízení dle nové legislativy s účinností od 1. 7. 2022\n zásadní 
 požadavky NV č. 192/2022 Sb. a zákona č. 250/2021 Sb.\n Zkušenosti s
  praktickou aplikací nové legislativy v praxi:\n povinnosti provozovate
 lů\, odpovědných osob\, revizních techniků\, obsluh tlakových zaří
 zení\n příprava a provádění revizí podle NV č. 192/2022 Sb.\n zp
 racování revizních zpráv a další dokumentace podle NV\n komentář 
 k některým ustanovením NV č. 192/2022 Sb. a zákona č. 250/2021 Sb.\n
  vydané odpovědi na dotazy SUIP a TIČR k nové právní úpravě pro p
 lynová zařízení\n aktuální nedostatky při provádění revizí tla
 kových zařízení\n Dotazy\, diskuze\n\n\nČASOVÝ HARMONOGRAM8:30 – 
 9:00 prezence účastníků9:00 – 11:45 seminář 1. část\, včetně 1
 5 minutové přestávky s občerstvením11:45 – 12:15 pauza\, občerstve
 ní12:15 – 15:00 seminář 2. část\, včetně 15 minutové přestávky
  s občerstvením\nPřednášející:Petr Matěják je předseda Asociace 
 pracovníků tlakových zařízení (ATZ). Předseda komise normalizační
  komise TNK 101 Kotle – vyhrazená tlaková zařízení\, Člen komise T
 NK 91 Tlakové nádoby a zařízení chemického průmyslu\, Člen koordin
 ační komise Úřadu normalizace pro Autorizované osoby k NV 119/2016 Sb
 . a 219/2016 Sb. Pressure equipment directive\, Člen sekce pro vyhrazená
  technická zařízení Hospodářské komory ČR. Je jednatelem společno
 sti PLANTinspekta s.r.o.CENA:3 500\,- Kč (vč. DPH) pro členy Svazu prů
 myslu a dopravy ČR nebo Krajské hospodářské komory KHK4 500\,- Kč (v
 č. DPH) pro ostatní účastníkyNa akci je nutná registrace. Registrujt
 e se prosím do 6. 3. 2023\n
URL:https://www.spcr.cz/vyhrazena-technicka-zarizeni-plynova-tlakova-dle-no
 ve-legislativy-s-ucinnosti-od-172022
DTSTART:20230309T090000
DTEND:20230309T150000
LOCATION:
END:VEVENT
END:VCALENDAR
