BEGIN:VCALENDAR
PRODID:-//eluceo/ical//2.0/EN
VERSION:2.0
CALSCALE:GREGORIAN
BEGIN:VEVENT
UID:da2b3fbddcc7fa2e9145470dcddc9be2
DTSTAMP:20260423T145913Z
SUMMARY:Vyhrazená technická zařízení plynová a tlaková dle nové leg
 islativy s účinností od 1.7.2022
DESCRIPTION:Název akce: Vyhrazená technická zařízení plynová a tlako
 vá dle nové legislativy s účinností od 1.7.2022\nURL: https://www.spc
 r.cz/vyhrazena-technicka-zarizeni-plynova-tlakova-dle-nove-legislativy-s-u
 cinnosti-od-172022-0\nPopis: \n\nVyhrazená technická zařízení PLYNOV
 Á a TLAKOVÁ dle nové legislativy s účinností od 1. 7. 2022Termín ko
 nání: 21. února 2023\, od 9:00 hod. do 15:00 hod.Místo konání: Krajs
 ká hospodářská komora Královéhradeckého kraje\, Škroupova 957\, Hr
 adec Králové\, zasedací místnost (3. patro)Rámcový program\n\nPrezen
 ce\, občerstvení\nZahájení\n\nVyhrazená tlaková zařízení dle nov
 é legislativy s účinností od 1. 7. 2022\n\nzásadní požadavky NV č.
  192/2022 Sb. a zákona č. 250/2021 Sb.\nZkušenosti s praktickou aplikac
 í nové legislativy v praxi:\npovinnosti provozovatelů\, odpovědných o
 sob\, revizních techniků\, obsluh tlakových zařízení\npříprava a p
 rovádění revizí podle NV č. 192/2022 Sb.\nzpracování revizních zpr
 áv a další dokumentace podle NV\nkomentář k některým ustanovením N
 V č. 192/2022 Sb. a zákona č. 250/2021 Sb.\nvydané odpovědi na dotazy
  SUIP a TIČR k nové právní úpravě pro plynová zařízení.\naktuál
 ní nedostatky při provádění revizí tlakových zařízení\nDotazy\, 
 diskuze\n\nVyhrazená plynová zařízení dle nové legislativy s účinn
 ostí od 1. 7. 2022\n\npodrobný komentář k nařízení vlády č. 191/2
 022 Sb. pro plynová zařízení\, komentář k jednotlivým odstavcům a 
 částím\npožadavky na PZ a jejich provozovatele\nnáležitosti provád
 ění revizí a revizních zpráv\nproblematika revizí\, kontrol a zkouš
 ek\ndiskuze k přednášeným tématům – zákon č. 250/2021 Sb. a nař
 ízení vlády č. 191/2022 Sb.\nvydané odpovědi na dotazy k nové práv
 ní úpravě pro plynová zařízení\nsoučasné požadavky Technické in
 spekce České republiky při ověřování odborné způsobilosti k výko
 nu činností montáží\, oprav\, revizí a zkoušek na plynových zaří
 zeních\nDotazy\, diskuze\n\nČasový harmonogram8:30 – 9:00 prezence ú
 častníků9:00 – 11:45 seminář 1. část\, včetně 15 minutové pře
 stávky s občerstvením11:45 – 12:15 pauza\, občerstvení12:15 – 15:
 00 seminář 2. část\, včetně 15 minutové přestávky s občerstvení
 mPřednášející:Petr Matěják je předseda Asociace pracovníků tlako
 vých zařízení (ATZ). Předseda komise normalizační komise TNK 101 Ko
 tle – vyhrazená tlaková zařízení\, Člen komise TNK 91 Tlakové ná
 doby a zařízení chemického průmyslu\, Člen koordinační komise Úř
 adu normalizace pro Autorizované osoby k NV 119/2016 Sb. a 219/2016 Sb. P
 ressure equipment directive\, Člen sekce pro vyhrazená technická zaří
 zení Hospodářské komory ČR. Je jednatelem společnosti PLANTinspekta 
 s.r.o.Na seminář přijal pozvání rovněž inspektor Oblastního inspek
 torátu práce pro Královéhradecký a Pardubický kraj Bc. Georgios Chri
 stodulos\, který působí na pozici inspektora se zaměřením na tlakov
 á VTZ.CENA:3 500\,- Kč (vč. DPH) pro členy Svazu průmyslu a dopravy 
 ČR nebo Krajské hospodářské komory KHK4 500\,- Kč (vč. DPH) pro ost
 atní účastníkyNa akci je nutná registrace. Registrujte se prosím do 
 16. 2. 2023\n
URL:https://www.spcr.cz/vyhrazena-technicka-zarizeni-plynova-tlakova-dle-no
 ve-legislativy-s-ucinnosti-od-172022-0
DTSTART:20230221T090000
DTEND:20230221T150000
LOCATION:
END:VEVENT
END:VCALENDAR
