BEGIN:VCALENDAR
PRODID:-//eluceo/ical//2.0/EN
VERSION:2.0
CALSCALE:GREGORIAN
BEGIN:VEVENT
UID:3aa5acca63537413540bbe43d51cc04c
DTSTAMP:20260423T125537Z
SUMMARY:Czech and Slovak Sustainability Summit 2023
DESCRIPTION:Název akce: Czech and Slovak Sustainability Summit 2023\nURL: 
 https://www.spcr.cz/czech-and-slovak-sustainability-summit-2023\nPopis: \n
 \n \n20% sleva pro členy Svazu\n\nPři registraci do políčka poznámka
  napište: Sleva člen SPCR.\n\nCzech and Slovak Sustainability Summit nab
 ídne trhu několik klíčových věcí:\n\nsilné zaměření na praktick
 ou udržitelnost – žádný greenwashing\, žádné plané řeči\nširo
 ký záběr: výroba\, stavebnictví\, retail\, pharma\, packaging\, suppl
 y chain\, logistika a doprava\nspolupráci se špičkovými odborníky na
  udržitelnost\npořadatele s 30letou zkušeností s organizací odborný
 ch akcí\nrozsáhlou celoroční medializaci summitu\nprostor pro diskuz
 i\, výměnu informací a nápadů a networking\nkompletní pokrytí česk
 ého i slovenského trhu\n\nJak se můžete zapojit do akce Czech and Slov
 ak Sustainability Summit?\n\nStaňte se partnerem summitu a dejte všem v
 ědět\, že podporujete udržitelnost\nPrezentujte svá udržitelná ře
 šení v programu konference Udržitelnost v praxi\nUcházejte se o ocen
 ění Udržitelný projekt roku\nPotkejte lidi\, kteří by mohli mít zá
 jem o váš projekt\nZúčastněte se této unikátní akce a rozšiřte s
 vé znalosti a pochopení udržitelnosti\n\nhttps://www.sustainabilitysumm
 it.cz/\ntisková zpráva\n
URL:https://www.spcr.cz/czech-and-slovak-sustainability-summit-2023
DTSTART:20230420T080000
DTEND:20230420T230000
LOCATION:
END:VEVENT
END:VCALENDAR
