BEGIN:VCALENDAR
PRODID:-//eluceo/ical//2.0/EN
VERSION:2.0
CALSCALE:GREGORIAN
BEGIN:VEVENT
UID:341c6c4b037b58fb051075d456a1772d
DTSTAMP:20260423T145950Z
SUMMARY:Konferenční seminář Údržba pro TOP manažery 2023
DESCRIPTION:Název akce: Konferenční seminář Údržba pro TOP manažery
  2023\nURL: https://www.spcr.cz/konferencni-seminar-udrzba-pro-top-manazer
 y-2023-0\nPopis: \n\nPozvání na konferenční seminář\n„Digitalizac
 í a chytrou údržbou směrem k úsporám\, moderní technologie - šest
 ý smysl údržbářův“\nDovolujeme si Vás pozvat na tradiční konfer
 enční seminář Údržba pro TOP manažery 2023.\nTématem setkání je\
 , jak využít Digitální transformaci a Chytrou údržbu k podstatnému 
 zvýšení celkové efektivity firmy. Pojďme se společně podívat na mo
 derní technologie\, které se mohou stát naším „šestým“ smyslem.
 V moderních technologiích\, metodách a postupech je velký potenciál k
 e zvýšení efektivity procesů a naším cílem je Vás a Vaše kolegy o
  tom přesvědčit. Na konferenčním semináři se budeme zabývat témat
 y úzce souvisejícími s optimalizací zdrojů energetických\, materiál
 ních\, tedy i finančních a zejména lidských a ukážeme si jak dobře
  nebo špatně lze s nimi hospodařit. Aby lidská práce\, bez níž to n
 ikdy nepůjde\, byla efektivní\, je třeba zvyšovat kvalifikaci a vzděl
 ávání a rozvíjet schopnosti a dovednosti personálu na všech úrovní
 ch firemní hierarchie.Posláním konferenčního semináře je též vytv
 ořit příjemné prostředí a prostor nejen pro výměnu dovedností a z
 kušeností\, ale také pro neformální setkání\, prezentaci a výstavk
 y firem s praktickými ukázkami.Na semináři máte možnost:\n\nvystavov
 at - prezentovat výrobky\, postupy\, služby - získat kontakty\nbýt par
 tnerem - mít logo firmy umístěné v partnerské sekci v materiálech ko
 nferenčního semináře a v přednáškovém sále\nnavázat nové kontak
 ty při neformálním večerním programu\n\nVíce informací zde\n \n
URL:https://www.spcr.cz/konferencni-seminar-udrzba-pro-top-manazery-2023-0
DTSTART:20230419T000000
DTEND:20230420T235959
LOCATION:
END:VEVENT
END:VCALENDAR
