BEGIN:VCALENDAR
PRODID:-//eluceo/ical//2.0/EN
VERSION:2.0
CALSCALE:GREGORIAN
BEGIN:VEVENT
UID:e535ea39e68d74f3c46bcf1e5c9a4086
DTSTAMP:20260423T173246Z
SUMMARY:Podnikatelská mise do Indie
DESCRIPTION:Název akce: Podnikatelská mise do Indie\nURL: https://www.spc
 r.cz/podnikatelska-mise-do-indie-0\nPopis: \n\nZveme vás k účasti v pod
 nikatelské delegaci\, kterou povede viceprezidentka Svazu průmyslu a dop
 ravy ČR Milena Jabůrková a která bude doprovázet ministra zahraničn
 ích věcí České republiky Jana Lipavského při jeho návštěvě Indi
 cké republiky\, a to ve dnech 26. února až 2. března 2023.\nPodle př
 edběžného rámcového programu navštíví podnikatelská delegace Dill
 í a Mumbai. Svaz průmyslu a dopravy ČR zorganizuje ve spolupráci s Vel
 vyslanectvím ČR v Dillí\, Kanceláří CzechTrade v Mumbai a partnersk
 ým Svazem indického průmyslu podnikatelská fóra a B2B jednání a dal
 ší networkingové akce a program.\nÚčast v delegaci doporučujeme zejm
 éna firmám z oblasti leteckého a obranného průmyslu\, cestovního ruc
 hu\, ale i dalších inovativních oborů a oblastí\, ideálně spojenýc
 h s těmito hlavními odvětvovými oblastmi této mise.\nPodnikatelskou m
 isi organizačně zajišťuje manažer Sekce vnějších vztahů a odborn
 ý garant podnikatelských misí SP ČR – Ing. Miroslav Veselka\, mvesel
 ka@spcr.cz\, +420 724 613 950.\nVeškeré informace naleznete v pozvánce 
 a závazné přihlášce. Termín přihlašování je stanoven do 8. únor
 a 2023.\nPořadatelé si vyhrazují právo odmítnout zájemce o účast s
  ohledem na vhodnost oborového zaměření\, pozdního přihlášení a n
 ebo v případě převisu poptávky nad počtem míst v letadle. Děkujeme
  za pochopení.\nTěšíme se na setkání s vámi!\n
URL:https://www.spcr.cz/podnikatelska-mise-do-indie-0
DTSTART:20230226T000000
DTEND:20230302T235959
LOCATION:
END:VEVENT
END:VCALENDAR
