BEGIN:VCALENDAR
PRODID:-//eluceo/ical//2.0/EN
VERSION:2.0
CALSCALE:GREGORIAN
BEGIN:VEVENT
UID:300cc934779410f7309ee9e004ab222a
DTSTAMP:20260423T125644Z
SUMMARY:1st Global Tourism Investors’ Summit
DESCRIPTION:Název akce: 1st Global Tourism Investors’ Summit\nURL: https
 ://www.spcr.cz/1st-global-tourism-investors-summit\nPopis: \n\n10—12 Apr
 il 2023: Pragati Maidan\, New Delhi\nInternational Virtual Roadshow: 24 Ja
 nuary\; 15:00—16:30 (IST)Tourism\, one of the world's fastest-growing in
 dustries\, is a major economic driver\, impacting commerce\, job creation\
 , investment\, infrastructure\, and social inclusion. India as a major tou
 rist destination provides ecological\, rural and spiritual tourism\, leisu
 re/adventure/heritage tourism\, medical and wellness\, and MICE.India has 
 become an attractive destination for FDI in recent years\, influenced by v
 arious factors which have boosted FDI including Ease of Doing Business and
  Single Window Clearances. India is an emerging mega economy which has ski
 lled human resources\, and the country is rich in the natural resources wi
 th booming capital markets. Important reforms are being made in the FDI po
 licy to safeguard the Indian companies as well as develop India as the bes
 t and a top destination for foreign investors.Recognizing the full potenti
 als of the Indian Tourism Industry\, the Central Government aims to achiev
 e USD 1Trillion in tourism GDP and make India a worldwide leader in Touris
 m by 2047. As a step towards this\, the Ministry of Tourism\, Government o
 f India is organising the 1st Global Tourism Investors’ Summit scheduled
  to be held from 10-12 April 2023 at Pragati Maidan\, New Delhi\, with Con
 federation of Indian Industry (CII) as the Industry Partner.The Summit wil
 l promote the Indian travel and tourism industry as an ‘Investment Desti
 nation’\, providing a common platform for the Central/State Governments 
 and the domestic as well as global investors to discuss investment possibi
 lities in the domestic tourism industry\, a bouquet of tangible investment
  ready projects for investors as well as partnership in form of B2B and B2
 G linkage.To share the details of 1st Global Tourism Investors’ Summit\,
  a Virtual Road Show is being organized on 24 January from 1500-1630 hrs (
 IST).We are writing to you with a special request\, if you could kindly co
 nsider joining this important interaction and extend this invite amongst r
 elevant stakeholders for joining virtually.Hotel Chains/ Hotel OperatorsTo
 urism affiliated associations / institutions (Basis the level of delegatio
 n\, Ministry of Tourism might consider hosting the head of the delegation)
 Investment companies / PE Funds/ Hotel Investors/ Infrastructure Investors
 Real Estate PlayersTourism BuyersRequest you to kindly confirm and registe
 r your participation at the below linkMeeting ID: 995 3729 4090Passcode: 5
 96583SIP: 99537294090@zoomcrc.comPasscode: 596583We look forward to your k
 ind confirmation.\n
URL:https://www.spcr.cz/1st-global-tourism-investors-summit
DTSTART:20230124T150000
DTEND:20230124T163000
LOCATION:
END:VEVENT
END:VCALENDAR
