BEGIN:VCALENDAR
PRODID:-//eluceo/ical//2.0/EN
VERSION:2.0
CALSCALE:GREGORIAN
BEGIN:VEVENT
UID:d5ee4d25145df70744c4a7fc15d51b05
DTSTAMP:20260423T162959Z
SUMMARY:Veletrh OZWATER na výstavišti ICC v Sydney
DESCRIPTION:Název akce: Veletrh OZWATER na výstavišti ICC v Sydney\nURL:
  https://www.spcr.cz/veletrh-ozwater-na-vystavisti-icc-v-sydney-0\nPopis: 
 \n\nVelvyslanectví ČR v Canbeře zrealizuje ve dnech 10.-12.5.2023 na v
 ýstavišti ICC v Sydney projekt ekonomické diplomacie\, který podpoř
 í české dodavatele vodohospodářských technologií při vstupu na aus
 tralský trh. Projekt zahrnuje českou expozici na výstavě vodohospodá
 řských technologií OZWATER 2023 a další doprovodný program.\n\nV r
 ámci projektu bude českým firmám poskytnuta zdarma výstavní plocha 1
 8 m2 v rámci české expozice..\nVlastní program veletrhu zahrnuje řad
 u dalších příležitostí k navázání kontaktů s australskými a d
 alšími zahraničními partnery\, viz odkaz  https://www.ozwater.org/. 
 Projekt proběhne ve spolupráci se zahraniční kanceláří CzechTrade S
 ydney\, která přislíbila pro české firmy další individuální služ
 by (v rámci placené služby).\nAustrálie má i přes obecný nedostat
 ek vodních zdrojů v některých částech země rozvinutou vodohospodá
 řskou strukturu a pokračuje v budování zavlažovacích systémů\, p
 řehrad\, odsolovacích zařízení. Hlavními výzvami pro australské vo
 dohospodáře zůstanou rostoucí poptávka\, populační růst a klimati
 cké změny. V důsledku těchto změn vyvrcholilo období dlouholetého 
 sucha devastujícími požáry na východním pobřeží Austrálie na p
 řelomu let 2019/2020. A v roce 2022 byla naopak oblast na východě i ji
 hu země postižena mohutnými záplavami.\nŽádané budou nadále techno
 logie a inovace napomáhající rozšíření infrastruktury a zajiště
 ní bezpečných zdrojů pitné vody a technologie zajišťující čišt
 ění odpadních a průmyslových vod\, vč. vzniklých při těžbě nero
 stů.\nPříležitosti pro české firmy v sektoru vodohospodářství  
 jsou v dodávkách vodních turbín\, čerpadel\, závlahových systémů
 \, produktovodů vč. přečerpávacích stanic\, odsolovacích zařízen
 ích\, protipovodňových zábran\, čističek odpadních vod (z domácno
 stí  i průmyslových provozů a dolů)\, úpraven vody\, sofistikovaný
 ch zařízení na výrobu vody ze vzduchu s využitím fotovoltaiky nebo 
 v oblasti chytrých řešení a inženýrských a technických služeb.\n
 Žádáme české firmy\, které mají zájem o účast na veletrhu OZWATE
 R 2023 v rámci české expozice\, aby se bezodkladně přihlásili na ad
 rese: commerce_canberra@mzv.cz. Plocha výstavní plochy je omezena\, pro
 to přednost bude dána firmám\, které se přihlásí dříve.\nDalší 
 informace dostupné zde.\n
URL:https://www.spcr.cz/veletrh-ozwater-na-vystavisti-icc-v-sydney-0
DTSTART:20230510T080000
DTEND:20230512T235959
LOCATION:
END:VEVENT
END:VCALENDAR
