BEGIN:VCALENDAR
PRODID:-//eluceo/ical//2.0/EN
VERSION:2.0
CALSCALE:GREGORIAN
BEGIN:VEVENT
UID:ca717c4700303f90f91f236989f9ba01
DTSTAMP:20260423T172357Z
SUMMARY:Veletrh AMPER 2023
DESCRIPTION:Název akce: Veletrh AMPER 2023\nURL: https://www.spcr.cz/velet
 rh-amper-2023\nPopis: \n\nZveme Vás k návštěvě 29. ročníku mezinár
 odního veletrhu elektrotechniky\, energetiky\, automatizace\, komunikace\
 , osvětlení a zabezpečení – AMPER 2023. Svaz průmyslu a dopravy ČR
  udělil veletrhu záštitu.\n\nVeletrh AMPER je:\n\npřední B2B událost
 í zastoupených oborů v ČR i na Slovensku.\nmístem setkávání pro od
 borníky\, obchodníky\, řídící pracovníky\, projektanty a významnou
  měrou je vyhledáván také soukromými a firemními investory.\n\nKrát
 ké video z veletrhu AMPER 2022: https://www.youtube.com/watch?v=8cqVrt7ml
 Es\nVíce informací a program akce najdete ZDE.\n
URL:https://www.spcr.cz/veletrh-amper-2023
DTSTART:20230321T000000
DTEND:20230323T235959
LOCATION:
END:VEVENT
END:VCALENDAR
