BEGIN:VCALENDAR
PRODID:-//eluceo/ical//2.0/EN
VERSION:2.0
CALSCALE:GREGORIAN
BEGIN:VEVENT
UID:92c4fd588afc3cee30be72e892a4684e
DTSTAMP:20260423T125654Z
SUMMARY:Kontrola exportu ZBOŽÍ DVOJÍHO POUŽITÍ
DESCRIPTION:Název akce: Kontrola exportu ZBOŽÍ DVOJÍHO POUŽITÍ\nURL: 
 https://www.spcr.cz/kontrola-exportu-zbozi-dvojiho-pouziti\nPopis: \n\nDov
 olujeme si Vás informovat o nadcházejícím semináři\, který proběhn
 e v úterý 31. ledna na téma kontrola exportu zboží dvojího užití.
  Seminář se uskuteční v budově Ministerstvo průmyslu a obchodu v 
 ulici Politických vězňů 20 a je určen především pro vývozce zodpo
 vědné za praktické provádění vývozu zboží dvojího použití. Reg
 istrace a podrobné informace jsou k dispozici zde.\n
URL:https://www.spcr.cz/kontrola-exportu-zbozi-dvojiho-pouziti
DTSTART:20230131T090000
DTEND:20230131T133000
LOCATION:
END:VEVENT
END:VCALENDAR
