BEGIN:VCALENDAR
PRODID:-//eluceo/ical//2.0/EN
VERSION:2.0
CALSCALE:GREGORIAN
BEGIN:VEVENT
UID:d7f42455eaf8efc4f2768191345bf5ac
DTSTAMP:20260423T130518Z
SUMMARY:Odborný seminář České bankovní asociace na téma „ESG“
DESCRIPTION:Název akce: Odborný seminář České bankovní asociace na t
 éma „ESG“\nURL: https://www.spcr.cz/odborny-seminar-ceske-bankovni-as
 ociace-na-tema-esg\nPopis: \n\nNa semináři se jako partner podílí i Sv
 az průmyslu a dopravy ČR a akce se zúčastní člen představenstva Sva
 zu Petr Jonák.\nRelativně nové a široké téma udržitelnosti\, které
  se skrývá pod zkratkou ESG\, v poslední době rezonuje nejen společn
 ostí jako takovou\, ale i komerčními firmami a bankovním sektorem. 
 V souvislosti s aktuální evropskou směrnicí CSRD se téma život
 ního prostředí (E)\, sociální sféry (S)\, ale i řízení a spr
 ávy firem a společností (G) prolíná do mnoha činností firem i bank
 \, pro které vzniká celá řada povinností. Na druhou stranu správně 
 nastavená „ESG strategie“ může firmám i bankám přinést konkuren
 ční výhodu a přístup na nové trhy. Přijměte pozvání na celodenn
 í odborný seminář\, na kterém se seznámíte s problematikou ESG\, a
 le i konkrétními kroky evropské směrnice CSRD\, která doléhá na fir
 emní sektor i banky.\nNa závěr budete moci diskutovat konkrétní dopad
  ESG a směrnice se zástupcem za firemní sektor\, kterým bude Petr Jon
 ák\, člen představenstva Svazu průmyslu a dopravy ČR\, ale i s banka
 mi a státní správou.\n Co si ze semináře odnesete\n\nNové poznatky\
 , ujasnění a utříbení informací\, které vyplývají z evropské sm
 ěrnice CSRD\nTrialog – diskuse se zástupci firem (Petr Jonák\, člen 
 představenstva Svazu průmyslu a dopravy ČR)\, bank a státní správy n
 a téma ESG\nPřesah a networking \n\nPro koho je seminář určen\n\nZá
 jemcům a odborníkům na toto téma z komerčních firem\, bank i státn
 ího sektoru\nJelikož se jedná o důležité a aktuální téma\, které
  rezonuje napříč společností\, uvítáme zájemce o tuto problematiku
  napříč odvětvími\n\nCena\n\nSpeciální cena pro členy Svazu průmy
 slu a dopravy ČR: 15% sleva z plného vstupného: 5 950 Kč (bez DPH)\n
 Pro uplatnění 15% slevy ze vstupného\, do políčka ZPRÁVA prosím uve
 ďte heslo „Svaz“.\nSoučástí vstupného je občerstvení a oběd\n\
 nRegistrace\n\nNa seminář se registrujte prostřednictvím registrační
 ho formuláře \n\n \n
URL:https://www.spcr.cz/odborny-seminar-ceske-bankovni-asociace-na-tema-esg
DTSTART:20230223T090000
DTEND:20230223T170000
LOCATION:
END:VEVENT
END:VCALENDAR
