BEGIN:VCALENDAR
PRODID:-//eluceo/ical//2.0/EN
VERSION:2.0
CALSCALE:GREGORIAN
BEGIN:VEVENT
UID:f061c5d8db223cc46895d6f5afbd8913
DTSTAMP:20260423T145749Z
SUMMARY:Podnikatelská mise do Varšavy na konferenci Rebuild Ukraine
DESCRIPTION:Název akce: Podnikatelská mise do Varšavy na konferenci Rebu
 ild Ukraine\nURL: https://www.spcr.cz/podnikatelska-mise-do-varsavy-na-kon
 ferenci-rebuild-ukraine\nPopis: \n\nDovolujeme si Vás pozvat k účast
 i v podnikatelské misi na unikátní mezinárodní konferenci Rebuild U
 kraine\, která se koná 15. a 16. února 2023 ve Varšavě.\n\nTuto podni
 katelskou misi organizuje společně Hospodářská komora ČR a Svaz pr
 ůmyslu a dopravy ČR. Pod vedením viceprezidentky SP ČR Mileny Jabůrko
 vé a viceprezidenta HK ČR Radka Jakubského doprovodí účastníci tét
 o podnikatelské mise na konferenci Rebuild Ukraine ministra průmyslu a 
 obchodu ČR pana Jozefa Síkelu.\nRebuild Ukraine je unikátní platforma
 \, mezinárodní konference\, na které se setkají zástupci ukrajinské 
 místní správy a samosprávy\, mezinárodních finančních institucí\,
  donátoři\, investoři a firmy především ze stavebnictví a stavební
 ho průmyslu\, ale i vodohospodářství a dalších odvětví\, které mo
 hou přispět k obnově zničené infrastruktury a budov a také firmy\, 
 které již mají\, či měly\, business aktivity na Ukrajině.\nDíky ú
 časti v podnikatelské misi doprovázející ministra průmyslu a obchod
 u ČR získají firmy jedinečný přístup na jednání s potenciálním
 i ukrajinskými partnery a v rámci celé mezinárodní konference také 
 s dalšími mezinárodními účastníky\, stejně jako možnost zhlédn
 out expozice vystavovatelů na varšavském EXPO XXI\, včetně české e
 xpozice.  \nPředběžný rámcový program podnikatelské mise n
 a Rebuild Ukraine:\nStředa 15. 2. 2023\n\nodlet vládním speciálem z l
 etiště Praha Kbely do Varšavy v pozdním odpoledni (cca 17:00 – 18:0
 0)\nubytování v hotelu Novotel Warszawa Centrum\, poblíž výstavního
  areálu EXPO XXI\nspolečenský večer na Velvyslanectví ČR ve Varšav
 ě\, včetně setkání a prezentace s částí ukrajinské delegace - di
 skuze o možnostech spolupráce (v závislosti na finální podobě progra
 mu je alternativou společenského večeru zorganizování pracovní sníd
 aně na Velvyslanectví ČR\, která by se uskutečnila dne 16. 2. před o
 djezdem na výstaviště).\n\nČtvrtek 16. 2. 2023\n\nsnídaně\, ranní c
 heck-out a odjezd do areálu EXPO XXI\nprohlídka expozic v rámci Rebuild
  Ukraine\nsetkání a číše vína v prostorách české expozice\nmožn
 ost prohlédnutí dalších expozic a čas pro individuální B2B schůzky
 \n\nv rámci programu na výstavišti se účastníkům podnikatelské mis
 e nabízí možnost navštívit následující akcie / prezentace organizo
 vané na výstavišti:\n\n10:00 - 13:00 hod.\, panel ke stavebnictví na U
 krajině\n11:00 - 14:00 hod.\, panel k financování a pojišťování pro
 jektů rekonstrukce na Ukrajině\n\n\n\n\ncca 18:00 odlet vládním speci
 álem zpět do Prahy\n\nUzávěrka závazných přihlášek pro ú
 častníky mise je 3. 2. 2023.\nV případě zájmu se prosím registruj
 te přes přihlašovací formulář zde.\nPočet míst na této podnikate
 lské misi je limitován - proto se v případě zájmu registrujte co nej
 dříve prosím. \nZálohová cena pro jednoho účastníka je v pr
 ̌ípadě členské firmy HK ČR a nebo SP ČR 22 500 Kč a pro ne
 členské firmy 25 000 Kč.\nPo vyplnění eletonického formuláře vá
 m zašleme závaznou přihlášku\, kterou bude potřebné vyplnit a podep
 sanou zaslat zpět. \nPořadatelé si vyhrazují právo odmítnout zájem
 ce o účast s ohledem na vhodnost oborového zaměření a nebo v příp
 adě převisu poptávky nad počtem míst v letadle. Účast může být p
 odmíněna podpisem čestného prohlášení\, souvisejícího nosně s 
 dodržováním sankcí vůči Ruské federaci a Bělorusku\, jehož vzor V
 ám bude zaslán po obdržení závazné přihlášky a před jejím potvr
 zením. Děkujeme za pochopení.\nVěříme\, že využijete možno
 sti osobně se zúčastnit jednání o účasti na obnově Ukrajiny\,
  během tohoto unikátního prvního mezinárodního veletrhu Rebuild Ukra
 ine. \nPodnikatelskou misi organizačně zajišťuje za SP ČR manaz
 ̌er vnějších vztahů Martin Natafaluši (mnatafalusi@spcr.cz\; 7
 33 643 556) a za HK ČR zástupce ředitele zahraničního odboru Petr Tal
 afús (talafus@komora.cz). V případě dotazů se proto neváhejte obrát
 it na organizátori. \n
URL:https://www.spcr.cz/podnikatelska-mise-do-varsavy-na-konferenci-rebuild
 -ukraine
DTSTART:20230215T170000
DTEND:20230216T180000
LOCATION:
END:VEVENT
END:VCALENDAR
