BEGIN:VCALENDAR
PRODID:-//eluceo/ical//2.0/EN
VERSION:2.0
CALSCALE:GREGORIAN
BEGIN:VEVENT
UID:90e74e7f3687a4a068897f5218222ec7
DTSTAMP:20260423T163000Z
SUMMARY:On-line briefing: příležitosti na Tchaj-wanu a v Jižní Koreji
DESCRIPTION:Název akce: On-line briefing: příležitosti na Tchaj-wanu a 
 v Jižní Koreji\nURL: https://www.spcr.cz/line-briefing-prilezitosti-na-t
 chaj-wanu-v-jizni-koreji\nPopis: \n\nDovolujeme si Vás pozvat na informa
 ční briefing v rámci přípravy podnikatelské mise na Tchaj-wan a do 
 Korejské republiky doprovázející předsedkyni Poslanecké sněmovny Pa
 rlamentu ČR Markétu Pekarovou Adamovou\, kterou společně organizuje Sv
 az průmyslu a dopravy ČR a Česko-tchajwanská podnikatelská komora ve 
 dnech 25. 3. až 1. 4. 2023.\nDatum konání on-line briefingu o obchodn
 ích příležitostech na Tchaj-wanu a v Korejské republice: úterý 31.
  1. 2023 od 9:00 – 10:30 CET\nNa tomto on-line setkání Vám krátce p
 ředstavíme nejenom harmonogram plánované podnikatelské mise\, ale př
 edevším dáme prostor expertům na obě teritoria\, aby Vám představil
 i obchodní příležitosti a tedy důvody pro účast na této podnikatel
 ské misi.\nNa on-line setkání a diskuzi se s Vámi mj. těší:\n\nMil
 ena Jabůrková\, viceprezidentka Svazu průmyslu a dopravy ČR\nAlice Rez
 ková\, ředitelka Česko-tchajwanské obchodní komory\nDavid Steinke\, v
 edoucí České ekonomické a kulturní kanceláře v Tchaj-peji\nPavel K
 alina\, vedoucí obchodně-ekonomického úseku\, rada\, Velvyslanectví 
 ČR v Soulu\nMichal Stroka\, vedoucí zahraniční kanceláře\, CzechTra
 de Jižní Korea\nMartina Tauberová\, byznys konzultantka a bývalá nám
 ěstkyně MPO pro zahraniční obchod\n\nNa tento informační briefing se
  přihlaste pomocí registračního formuláře\, kde prosím také přede
 m položte své dotazy. Na základě registrace Vám bude zaslán přístu
 pový link pro jednání na platformě Zoom.\n Těšíme se na on-line set
 kání.\n
URL:https://www.spcr.cz/line-briefing-prilezitosti-na-tchaj-wanu-v-jizni-ko
 reji
DTSTART:20230131T090000
DTEND:20230131T103000
LOCATION:
END:VEVENT
END:VCALENDAR
