BEGIN:VCALENDAR
PRODID:-//eluceo/ical//2.0/EN
VERSION:2.0
CALSCALE:GREGORIAN
BEGIN:VEVENT
UID:5e1b6d25c48130702cfce2b281e0bad0
DTSTAMP:20260423T145923Z
SUMMARY:47. Bagdádský mezinárodní veletrh / Baghdad International Fair
DESCRIPTION:Název akce: 47. Bagdádský mezinárodní veletrh / Baghdad In
 ternational Fair\nURL: https://www.spcr.cz/47-bagdadsky-mezinarodni-veletr
 h-baghdad-international-fair\nPopis: \n\nVyužijte možnost se aktivně z
 účastnit jako vystavovatel na nejdůležitějším veletrhu v Iráku ko
 naném od 1. do 10. listopadu tohoto roku. Přihlášky lze podat na MPO d
 o 28. dubna 2023. \nSvaz průmyslu a dopravy ČR navrhl do Programu česk
 ých oficiálních účastí na zahraničních veletrzích a výstavách v
  gesci MPO ČR na rok 2023 účast na 47. ročníku Bagdádského meziná
 rodního veletrhu / Baghdad International Fair\, který se uskuteční ve 
 dnech 1. až 10. listopadu 2023.\nJedná se o nejdůležitější veletrh 
 v Iráku\, o čemž svědčí údaje z minulého roku – přes 400 vyst
 avovatelů ze 17 zemí\, obsazená výstavní plocha 18 500 m2 a 250 000 n
 ávštěvníků. Letos jsou očekávány ještě vyšší počty a zájem.
  Tento veletrh je organizovaný State Company for Iraqi Fairs and Commerci
 al Services pod patronátem Ministerstva obchodu Iráku.\nVeletrh je zamě
 řen na tradiční obory\, které jsou pro projekty rekonstrukce a obnovy 
 Iráku nezbytné a do kterých se již zapojily nebo hodlají zapojit i č
 eské subjekty – energetika\, těžba a zpracování ropy a plynu\, vodn
 í hospodářství\, ekologie\, infrastruktura\, zdravotnictví\, zemědě
 lství\, stavebnictví\, školství\, IT a telekomunikace\, turistika\, ba
 nkovnictví a pojišťovnictví\, spotřební průmysl atd.\nV Iráku se 
 v poslední době zlepšila bezpečnostní situace a podmínky pro život
  obyvatel\, čehož potvrzením je i opětovné pořádání veletrhů a v
 ýstav. Účast České republiky a českých subjektů může aktivně p
 řispět k dalšímu rozvoji ekonomických vztahů mezi ČR a Irákem a s
 oučasně i přinést nové kontakty a možnosti pro jednotlivá odvětví
  iráckého hospodářství. V rámci veletrhu se čeští vystavovatelé
  budou moci setkat se zástupci iráckých státních institucí včetně 
 ministerstev\, investorů\, státních i privátních společností.\nVyu
 žijte proto možnosti se tohoto veletrhu zúčastnit. Přihlášky musí 
 být zkompletovány do 28. dubna 2023.\nVyplněnou přihlášku lze posl
 at přímo na MPO prostřednictvím datové schránky nebo e-mailem s el
 ektronickým podpisem na posta@mpo.cz\, nebo osobně na podatelnu Na Fran
 tišku 32\, Praha 1.\nProsím\, dejte v případě zaslání přihlášky
  e-mailem do kopie za MPO také projektového manažera akce pana Libora K
 ubelku (kubelka@mpo.cz) a za SP ČR manažerku vnějších vztahů Helenou
  Kotkovou (hkotkova@spcr.cz).\nV případě dotazů k veletrhu a postupu
  s přihláškou můžete v SP ČR kontaktovat Helenu Kotkovou ze Sekce v
 nějších vztahů SP ČR (hkotkova@spcr.cz).\nPodrobnosti o veletrhu.\n
URL:https://www.spcr.cz/47-bagdadsky-mezinarodni-veletrh-baghdad-internatio
 nal-fair
DTSTART:20231101T000000
DTEND:20231110T235959
LOCATION:
END:VEVENT
END:VCALENDAR
