BEGIN:VCALENDAR
PRODID:-//eluceo/ical//2.0/EN
VERSION:2.0
CALSCALE:GREGORIAN
BEGIN:VEVENT
UID:6ccddba2f92d6deb60c85b97fd7b6f0d
DTSTAMP:20260423T130206Z
SUMMARY:Pozvánka na online seminář k portálu Access2Markets
DESCRIPTION:Název akce: Pozvánka na online seminář k portálu Access2Ma
 rkets\nURL: https://www.spcr.cz/pozvanka-na-online-seminar-k-portalu-acces
 s2markets\nPopis: \n\nRádi bychom pozvali české firmy\, podnikatele a d
 alší zájemce na nadcházející online seminář k portálu Access2Mar
 kets (A2M). Portál se stále zdokonaluje a nyní obsahuje řadu zajímav
 ých funkcí a informací\, např. v části Služby a Investice či v 
 části Veřejné zakázky (nástroj Access2Procurement).\nSeminář poř
 ádaný Evropskou komisí se uskuteční dne 7. 2. 2023 od 9-11 hodin. V 
 rámci tohoto semináře Komise portál A2M představí\, včetně jeho č
 ástí týkajících se dovozů\, vývozů a překážek obchodu a bude se
  věnovat i nástrojům Single Entry Point\, ROSA (Rules of Origin self-as
 sesment)\, Access2Procurement a rozšíření nástroje v oblasti služeb
  a investic. Seminář proběhne v angličtině s tlumočením do češti
 ny. Detaily k semináři a i podrobnosti\, jak se na seminář přihlásit
 \, naleznete přímo na tomto odkazu:  https://trade.ec.europa.eu/access-t
 o-markets/en/content/events-access2markets.  Další doprovodné informac
 e naleznete také na webu MPO zde: https://www.mpo.cz/cz/zahranicni-obchod
 /spolecna-obchodni-politika-eu/netarifni-prekazky-obchodu/seminar-k-portal
 u-access2market---270974/.\nV případě jakýchkoli dotazů ohledně semi
 náře nebo přihlašování se neváhejte obrátit na Natálii Ondráčko
 vou (ondrackova@mpo.cz).\n
URL:https://www.spcr.cz/pozvanka-na-online-seminar-k-portalu-access2markets
DTSTART:20230207T090000
DTEND:20230207T110000
LOCATION:
END:VEVENT
END:VCALENDAR
