BEGIN:VCALENDAR
PRODID:-//eluceo/ical//2.0/EN
VERSION:2.0
CALSCALE:GREGORIAN
BEGIN:VEVENT
UID:1a620b9fb654efe6df0fc52b578d9ae0
DTSTAMP:20260423T125756Z
SUMMARY:Konference Roboty 2023
DESCRIPTION:Název akce: Konference Roboty 2023\nURL: https://www.spcr.cz/k
 onference-roboty-2023\nPopis: \n\nZveme vás na konferenci ROBOTY 2023\, k
 teré Svaz průmyslu pravidelně uděluje záštitu.\n\nDesáté výročí
  konference ve svém obsahu kombinuje to nejlepší z předchozích let s 
 dávkou nové invence. Naváže tak na svůj status přední technické ko
 nference\, která slouží k inspiraci tuzemského průmyslu\, podporuje n
 etworking specialistů a zároveň na jedno místo přiváží to nejzají
 mavější z robotiky a přidružené automatizace. Hlavní konferenční 
 program proběhne tradičně v hotelu Avanti v hybridním režimu (osobně
  i on-line). Na půdě konference můžete ve dvou dnech navštívit hlavn
 í stage s exkluzivními přednáškami a hosty\, projít si partnerské w
 orkshopy nebo se seznámit s novými technologiemi ve výstavní části. 
 To vše s vyhlášeným večerním networkingem.\nVíce informací o akci 
 ZDE.\nPro členy SP ČR platí sleva ve výši 2000 Kč z vybrané variant
 y vstupu. Pro uplatnění slevy stačí zadat do poznámky kód #SPČR.\n
URL:https://www.spcr.cz/konference-roboty-2023
DTSTART:20230124T000000
DTEND:20230125T235959
LOCATION:
END:VEVENT
END:VCALENDAR
