BEGIN:VCALENDAR
PRODID:-//eluceo/ical//2.0/EN
VERSION:2.0
CALSCALE:GREGORIAN
BEGIN:VEVENT
UID:a517cd31de827bb8f252f27a70c99b90
DTSTAMP:20260423T125655Z
SUMMARY:2023 TAIPEI AMPA and AUTOTRONICS TAIPEI
DESCRIPTION:Název akce: 2023 TAIPEI AMPA and AUTOTRONICS TAIPEI\nURL: http
 s://www.spcr.cz/2023-taipei-ampa-and-autotronics-taipei\nPopis: \n\n2023 T
 AIPEI AMPA (Automobile & Motorcycle Parts & Accessories) and AUTOTRONICS T
 AIPEI\, Asia’s 2nd largest automotive B2B trade show that presents the l
 atest trends of automotive\, motorcycle and electric vehicles\, will be he
 ld physically in Taipei Nangang Exhibition Center from April 12th to April
  15th\, 2023\, and virtually from April 10th to April 23rd\, 2023. This ye
 ar\, TAIPEI AMPA and AUTOTRONICS TAIPEI will have more than 820 exhibitors
  with 2\,100 booths showcasing the complete automotive industry supply cha
 in\, including auto parts (OEMs\, Aftermarket)\, motorcycle vehicle & part
 s\, automobile electronics parts & products\, and the latest CASE (connect
 ed\, autonomous\, shared and electric) trending products.\nFor the latest 
 updates\, please visit the official website https://www.taipeiampa.com.tw/
 en/index.html .\nTo encourage higher participation at the trade show\, we 
 are offering an incentive that partially covers air tickets or accommodati
 on depending on the annual sales of your company (please refer to the atta
 ched "company profile" form for more details). This incentive is available
  to companies\, associations and media.\nFor registration and the incentiv
 e application\, please fill in the  "company profile" form and send it to
  czech@sa.moea.gov.tw or cztwec01@sa.moea.org.tw .\nWe sincerely hope to w
 elcome you at the trade show.\nFor further information\, please feel free 
 to contact:\nMs. Tereza ŠafářováEconomic DivisionTaipei Economic and C
 ultural Office\, PragueTel.: (+420) 234 722 021cztwec01@sa.moea.gov.tw\, c
 ztwec01@gmail.com\n
URL:https://www.spcr.cz/2023-taipei-ampa-and-autotronics-taipei
DTSTART:20230412T000000
DTEND:20230415T235959
LOCATION:
END:VEVENT
END:VCALENDAR
