BEGIN:VCALENDAR
PRODID:-//eluceo/ical//2.0/EN
VERSION:2.0
CALSCALE:GREGORIAN
BEGIN:VEVENT
UID:b01b7db1c9033b18cd7f47963bf7a05d
DTSTAMP:20260423T172422Z
SUMMARY:2035 E-Mobility Taiwan 
DESCRIPTION:Název akce: 2035 E-Mobility Taiwan \nURL: https://www.spcr.cz/
 2035-e-mobility-taiwan-0\nPopis: \n\n2035 E-Mobility Taiwan\, an internati
 onal exhibition that showcases the electric vehicle and self-driving car e
 cosystem will be held physically in Taipei Nangang Exhibition Center from 
 April 12th to April 15th\, 2023\, and virtually from April 10th to April 2
 3rd\, 2023. This year\, 2035 E-Mobility Taiwan will have more than 65 exhi
 bitors with 210 booths showcasing the latest systems and solutions for ele
 ctric and autonomous vehicles\, including subsystem communications\, contr
 ol units\, batteries and other automotive parts\, accessories and services
 .\nFor the latest updates\, please visit the official website https://www.
 e-mobilityshow.com.tw/en/index.html .\nTo encourage higher participation a
 t the trade show\, we are offering an incentive that partially covers air 
 tickets or accommodation depending on the annual sales of your company (pl
 ease refer to the attached "company profile" form for more details).\nFor 
 registration and the incentive application\, please fill in the  "company
  profile" form and send it to czech@sa.moea.gov.tw or cztwec01@sa.moea.org
 .tw .\nWe sincerely hope to welcome you at the trade show.\nFor further in
 formation\, please feel free to contact:\nMs. Tereza ŠafářováEconomic 
 DivisionTaipei Economic and Cultural Office\, PragueTel.: (+420) 234 722 0
 21cztwec01@sa.moea.gov.tw\, cztwec01@gmail.com\n
URL:https://www.spcr.cz/2035-e-mobility-taiwan-0
DTSTART:20230410T000000
DTEND:20230415T235959
LOCATION:
END:VEVENT
END:VCALENDAR
